BEGIN:VCALENDAR
VERSION:2.0
PRODID:-//Weston Art &amp; Innovation Center - ECPv6.15.20//NONSGML v1.0//EN
CALSCALE:GREGORIAN
METHOD:PUBLISH
X-WR-CALNAME:Weston Art &amp; Innovation Center
X-ORIGINAL-URL:https://westonaic.org
X-WR-CALDESC:Events for Weston Art &amp; Innovation Center
REFRESH-INTERVAL;VALUE=DURATION:PT1H
X-Robots-Tag:noindex
X-PUBLISHED-TTL:PT1H
BEGIN:VTIMEZONE
TZID:America/New_York
BEGIN:DAYLIGHT
TZOFFSETFROM:-0500
TZOFFSETTO:-0400
TZNAME:EDT
DTSTART:20250309T070000
END:DAYLIGHT
BEGIN:STANDARD
TZOFFSETFROM:-0400
TZOFFSETTO:-0500
TZNAME:EST
DTSTART:20251102T060000
END:STANDARD
BEGIN:DAYLIGHT
TZOFFSETFROM:-0500
TZOFFSETTO:-0400
TZNAME:EDT
DTSTART:20260308T070000
END:DAYLIGHT
BEGIN:STANDARD
TZOFFSETFROM:-0400
TZOFFSETTO:-0500
TZNAME:EST
DTSTART:20261101T060000
END:STANDARD
BEGIN:DAYLIGHT
TZOFFSETFROM:-0500
TZOFFSETTO:-0400
TZNAME:EDT
DTSTART:20270314T070000
END:DAYLIGHT
BEGIN:STANDARD
TZOFFSETFROM:-0400
TZOFFSETTO:-0500
TZNAME:EST
DTSTART:20271107T060000
END:STANDARD
END:VTIMEZONE
BEGIN:VEVENT
DTSTART;TZID=America/New_York:20260415T130000
DTEND;TZID=America/New_York:20260415T153000
DTSTAMP:20260422T101911
CREATED:20260121T211916Z
LAST-MODIFIED:20260303T143949Z
UID:40625-1776258000-1776267000@westonaic.org
SUMMARY:Beginners Watercolor Series: Afternoon
DESCRIPTION:This class is geared for the complete beginner who has had little or no experience in watercolor. \nWe will explore how much water-to-pigment to use to create tints\, glazes and deep dark tones\, together with an introduction to color mixing. We will work on a number of skill-building exercises and small paintings\, including the main 3 washes\, dry brush\, sgraffito\, spattering and lifting out techniques. We will work on making objects feel 3-dimensional (value and form) and will briefly touch on perspective. There will be multiple step-by-step demonstrations in every class and individual attention if needed. Images and line drawings are provided via email before class. Materials List linked below. Registration closes Mar 1. \n  \nMinimum # of Students: 4 \nMaximum # of Students: 12 \nCost: $125 (plus cost of materials) \nMaterials List \nDate: 7 Wednesdays: starting Wed\, Mar 4 (Mar 4\, 11\, 18\, 25\, Apr 1\, 8 & 15) (1pm-3:30pm) \n  \nJust a friendly reminder that classes which do not meet the minimum enrollment requirements will be canceled.
URL:https://westonaic.org/class/beginners-watercolor-series-afternoon-4/2026-04-15/
LOCATION:The Loft\, 356 Boston Post Road\, 2nd floor\, Weston\, MA\, 02493\, United States
CATEGORIES:Classes,Fine Arts,Painting,Watercolor
ATTACH;FMTTYPE=image/png:https://westonaic.org/wp-content/uploads/2024/08/AIC-Website-Watercolor-Series.png
END:VEVENT
BEGIN:VEVENT
DTSTART;TZID=America/New_York:20260408T130000
DTEND;TZID=America/New_York:20260408T153000
DTSTAMP:20260422T101911
CREATED:20260121T211916Z
LAST-MODIFIED:20260303T143948Z
UID:40624-1775653200-1775662200@westonaic.org
SUMMARY:Beginners Watercolor Series: Afternoon
DESCRIPTION:This class is geared for the complete beginner who has had little or no experience in watercolor. \nWe will explore how much water-to-pigment to use to create tints\, glazes and deep dark tones\, together with an introduction to color mixing. We will work on a number of skill-building exercises and small paintings\, including the main 3 washes\, dry brush\, sgraffito\, spattering and lifting out techniques. We will work on making objects feel 3-dimensional (value and form) and will briefly touch on perspective. There will be multiple step-by-step demonstrations in every class and individual attention if needed. Images and line drawings are provided via email before class. Materials List linked below. Registration closes Mar 1. \n  \nMinimum # of Students: 4 \nMaximum # of Students: 12 \nCost: $125 (plus cost of materials) \nMaterials List \nDate: 7 Wednesdays: starting Wed\, Mar 4 (Mar 4\, 11\, 18\, 25\, Apr 1\, 8 & 15) (1pm-3:30pm) \n  \nJust a friendly reminder that classes which do not meet the minimum enrollment requirements will be canceled.
URL:https://westonaic.org/class/beginners-watercolor-series-afternoon-4/2026-04-08/
LOCATION:The Loft\, 356 Boston Post Road\, 2nd floor\, Weston\, MA\, 02493\, United States
CATEGORIES:Classes,Fine Arts,Painting,Watercolor
ATTACH;FMTTYPE=image/png:https://westonaic.org/wp-content/uploads/2024/08/AIC-Website-Watercolor-Series.png
END:VEVENT
BEGIN:VEVENT
DTSTART;TZID=America/New_York:20260401T130000
DTEND;TZID=America/New_York:20260401T153000
DTSTAMP:20260422T101911
CREATED:20260121T211916Z
LAST-MODIFIED:20260303T143947Z
UID:40623-1775048400-1775057400@westonaic.org
SUMMARY:Beginners Watercolor Series: Afternoon
DESCRIPTION:This class is geared for the complete beginner who has had little or no experience in watercolor. \nWe will explore how much water-to-pigment to use to create tints\, glazes and deep dark tones\, together with an introduction to color mixing. We will work on a number of skill-building exercises and small paintings\, including the main 3 washes\, dry brush\, sgraffito\, spattering and lifting out techniques. We will work on making objects feel 3-dimensional (value and form) and will briefly touch on perspective. There will be multiple step-by-step demonstrations in every class and individual attention if needed. Images and line drawings are provided via email before class. Materials List linked below. Registration closes Mar 1. \n  \nMinimum # of Students: 4 \nMaximum # of Students: 12 \nCost: $125 (plus cost of materials) \nMaterials List \nDate: 7 Wednesdays: starting Wed\, Mar 4 (Mar 4\, 11\, 18\, 25\, Apr 1\, 8 & 15) (1pm-3:30pm) \n  \nJust a friendly reminder that classes which do not meet the minimum enrollment requirements will be canceled.
URL:https://westonaic.org/class/beginners-watercolor-series-afternoon-4/2026-04-01/
LOCATION:The Loft\, 356 Boston Post Road\, 2nd floor\, Weston\, MA\, 02493\, United States
CATEGORIES:Classes,Fine Arts,Painting,Watercolor
ATTACH;FMTTYPE=image/png:https://westonaic.org/wp-content/uploads/2024/08/AIC-Website-Watercolor-Series.png
END:VEVENT
BEGIN:VEVENT
DTSTART;TZID=America/New_York:20260325T130000
DTEND;TZID=America/New_York:20260325T153000
DTSTAMP:20260422T101911
CREATED:20260121T211916Z
LAST-MODIFIED:20260303T143945Z
UID:40622-1774443600-1774452600@westonaic.org
SUMMARY:Beginners Watercolor Series: Afternoon
DESCRIPTION:This class is geared for the complete beginner who has had little or no experience in watercolor. \nWe will explore how much water-to-pigment to use to create tints\, glazes and deep dark tones\, together with an introduction to color mixing. We will work on a number of skill-building exercises and small paintings\, including the main 3 washes\, dry brush\, sgraffito\, spattering and lifting out techniques. We will work on making objects feel 3-dimensional (value and form) and will briefly touch on perspective. There will be multiple step-by-step demonstrations in every class and individual attention if needed. Images and line drawings are provided via email before class. Materials List linked below. Registration closes Mar 1. \n  \nMinimum # of Students: 4 \nMaximum # of Students: 12 \nCost: $125 (plus cost of materials) \nMaterials List \nDate: 7 Wednesdays: starting Wed\, Mar 4 (Mar 4\, 11\, 18\, 25\, Apr 1\, 8 & 15) (1pm-3:30pm) \n  \nJust a friendly reminder that classes which do not meet the minimum enrollment requirements will be canceled.
URL:https://westonaic.org/class/beginners-watercolor-series-afternoon-4/2026-03-25/
LOCATION:The Loft\, 356 Boston Post Road\, 2nd floor\, Weston\, MA\, 02493\, United States
CATEGORIES:Classes,Fine Arts,Painting,Watercolor
ATTACH;FMTTYPE=image/png:https://westonaic.org/wp-content/uploads/2024/08/AIC-Website-Watercolor-Series.png
END:VEVENT
BEGIN:VEVENT
DTSTART;TZID=America/New_York:20260318T130000
DTEND;TZID=America/New_York:20260318T153000
DTSTAMP:20260422T101911
CREATED:20260121T211916Z
LAST-MODIFIED:20260303T143944Z
UID:40621-1773838800-1773847800@westonaic.org
SUMMARY:Beginners Watercolor Series: Afternoon
DESCRIPTION:This class is geared for the complete beginner who has had little or no experience in watercolor. \nWe will explore how much water-to-pigment to use to create tints\, glazes and deep dark tones\, together with an introduction to color mixing. We will work on a number of skill-building exercises and small paintings\, including the main 3 washes\, dry brush\, sgraffito\, spattering and lifting out techniques. We will work on making objects feel 3-dimensional (value and form) and will briefly touch on perspective. There will be multiple step-by-step demonstrations in every class and individual attention if needed. Images and line drawings are provided via email before class. Materials List linked below. Registration closes Mar 1. \n  \nMinimum # of Students: 4 \nMaximum # of Students: 12 \nCost: $125 (plus cost of materials) \nMaterials List \nDate: 7 Wednesdays: starting Wed\, Mar 4 (Mar 4\, 11\, 18\, 25\, Apr 1\, 8 & 15) (1pm-3:30pm) \n  \nJust a friendly reminder that classes which do not meet the minimum enrollment requirements will be canceled.
URL:https://westonaic.org/class/beginners-watercolor-series-afternoon-4/2026-03-18/
LOCATION:The Loft\, 356 Boston Post Road\, 2nd floor\, Weston\, MA\, 02493\, United States
CATEGORIES:Classes,Fine Arts,Painting,Watercolor
ATTACH;FMTTYPE=image/png:https://westonaic.org/wp-content/uploads/2024/08/AIC-Website-Watercolor-Series.png
END:VEVENT
BEGIN:VEVENT
DTSTART;TZID=America/New_York:20260311T130000
DTEND;TZID=America/New_York:20260311T153000
DTSTAMP:20260422T101911
CREATED:20260121T211916Z
LAST-MODIFIED:20260303T143942Z
UID:40620-1773234000-1773243000@westonaic.org
SUMMARY:Beginners Watercolor Series: Afternoon
DESCRIPTION:This class is geared for the complete beginner who has had little or no experience in watercolor. \nWe will explore how much water-to-pigment to use to create tints\, glazes and deep dark tones\, together with an introduction to color mixing. We will work on a number of skill-building exercises and small paintings\, including the main 3 washes\, dry brush\, sgraffito\, spattering and lifting out techniques. We will work on making objects feel 3-dimensional (value and form) and will briefly touch on perspective. There will be multiple step-by-step demonstrations in every class and individual attention if needed. Images and line drawings are provided via email before class. Materials List linked below. Registration closes Mar 1. \n  \nMinimum # of Students: 4 \nMaximum # of Students: 12 \nCost: $125 (plus cost of materials) \nMaterials List \nDate: 7 Wednesdays: starting Wed\, Mar 4 (Mar 4\, 11\, 18\, 25\, Apr 1\, 8 & 15) (1pm-3:30pm) \n  \nJust a friendly reminder that classes which do not meet the minimum enrollment requirements will be canceled.
URL:https://westonaic.org/class/beginners-watercolor-series-afternoon-4/2026-03-11/
LOCATION:The Loft\, 356 Boston Post Road\, 2nd floor\, Weston\, MA\, 02493\, United States
CATEGORIES:Classes,Fine Arts,Painting,Watercolor
ATTACH;FMTTYPE=image/png:https://westonaic.org/wp-content/uploads/2024/08/AIC-Website-Watercolor-Series.png
END:VEVENT
BEGIN:VEVENT
DTSTART;TZID=America/New_York:20260304T130000
DTEND;TZID=America/New_York:20260304T153000
DTSTAMP:20260422T101911
CREATED:20260121T211916Z
LAST-MODIFIED:20260303T143938Z
UID:40618-1772629200-1772638200@westonaic.org
SUMMARY:Beginners Watercolor Series: Afternoon
DESCRIPTION:This class is geared for the complete beginner who has had little or no experience in watercolor. \nWe will explore how much water-to-pigment to use to create tints\, glazes and deep dark tones\, together with an introduction to color mixing. We will work on a number of skill-building exercises and small paintings\, including the main 3 washes\, dry brush\, sgraffito\, spattering and lifting out techniques. We will work on making objects feel 3-dimensional (value and form) and will briefly touch on perspective. There will be multiple step-by-step demonstrations in every class and individual attention if needed. Images and line drawings are provided via email before class. Materials List linked below. Registration closes Mar 1. \n  \nMinimum # of Students: 4 \nMaximum # of Students: 12 \nCost: $125 (plus cost of materials) \nMaterials List \nDate: 7 Wednesdays: starting Wed\, Mar 4 (Mar 4\, 11\, 18\, 25\, Apr 1\, 8 & 15) (1pm-3:30pm) \n  \nJust a friendly reminder that classes which do not meet the minimum enrollment requirements will be canceled.
URL:https://westonaic.org/class/beginners-watercolor-series-afternoon-4/2026-03-04/
LOCATION:The Loft\, 356 Boston Post Road\, 2nd floor\, Weston\, MA\, 02493\, United States
CATEGORIES:Classes,Fine Arts,Painting,Watercolor
ATTACH;FMTTYPE=image/png:https://westonaic.org/wp-content/uploads/2024/08/AIC-Website-Watercolor-Series.png
END:VEVENT
END:VCALENDAR