BEGIN:VCALENDAR
VERSION:2.0
PRODID:-//Weston Art &amp; Innovation Center - ECPv6.15.20//NONSGML v1.0//EN
CALSCALE:GREGORIAN
METHOD:PUBLISH
X-WR-CALNAME:Weston Art &amp; Innovation Center
X-ORIGINAL-URL:https://westonaic.org
X-WR-CALDESC:Events for Weston Art &amp; Innovation Center
REFRESH-INTERVAL;VALUE=DURATION:PT1H
X-Robots-Tag:noindex
X-PUBLISHED-TTL:PT1H
BEGIN:VTIMEZONE
TZID:America/New_York
BEGIN:DAYLIGHT
TZOFFSETFROM:-0500
TZOFFSETTO:-0400
TZNAME:EDT
DTSTART:20250309T070000
END:DAYLIGHT
BEGIN:STANDARD
TZOFFSETFROM:-0400
TZOFFSETTO:-0500
TZNAME:EST
DTSTART:20251102T060000
END:STANDARD
BEGIN:DAYLIGHT
TZOFFSETFROM:-0500
TZOFFSETTO:-0400
TZNAME:EDT
DTSTART:20260308T070000
END:DAYLIGHT
BEGIN:STANDARD
TZOFFSETFROM:-0400
TZOFFSETTO:-0500
TZNAME:EST
DTSTART:20261101T060000
END:STANDARD
BEGIN:DAYLIGHT
TZOFFSETFROM:-0500
TZOFFSETTO:-0400
TZNAME:EDT
DTSTART:20270314T070000
END:DAYLIGHT
BEGIN:STANDARD
TZOFFSETFROM:-0400
TZOFFSETTO:-0500
TZNAME:EST
DTSTART:20271107T060000
END:STANDARD
END:VTIMEZONE
BEGIN:VEVENT
DTSTART;TZID=America/New_York:20260414T183000
DTEND;TZID=America/New_York:20260414T210000
DTSTAMP:20260421T080336
CREATED:20251112T155926Z
LAST-MODIFIED:20260301T142328Z
UID:39679-1776191400-1776200400@westonaic.org
SUMMARY:Advanced Beginners Watercolor: Night
DESCRIPTION:This relaxed watercolor class is geared towards watercolor students who have taken a beginner class and are more familiar with the main watercolor techniques. \nThis class will be project-based and any techniques required for the particular project will be reviewed. The projects will include subjects like fruit and vegetables\, flowers that are not too complex\, landscapes with a tree and/or barn\, seascapes with a boat or lighthouse\, a leaf\, and bird or animal. All the line drawings for each project will be provided to trace or freehand draw with live demonstrations of each step in the painting process (including color mixing). One-on-one attention is provided continually during class. Materials List linked below. Registration closes Feb 28. \n  \nMinimum # of Students: 4 \nMaximum # of Students: 12 \nCost: $125 (plus cost of materials) \nMaterials List \nDate: 7 Tuesdays: starting Tues\, Mar 3 (Mar 3\, 10\, 17\, 24\, 31\, Apr 7 & 14) (6:30pm-9pm) \n  \nJust a friendly reminder that classes which do not meet the minimum enrollment requirements will be canceled.
URL:https://westonaic.org/class/beginners-watercolor-two-night/2026-04-14/
LOCATION:The Loft\, 356 Boston Post Road\, 2nd floor\, Weston\, MA\, 02493\, United States
CATEGORIES:Classes,Fine Arts,Watercolor
ATTACH;FMTTYPE=image/png:https://westonaic.org/wp-content/uploads/2025/10/Watercolor-2-2.png
END:VEVENT
BEGIN:VEVENT
DTSTART;TZID=America/New_York:20260407T183000
DTEND;TZID=America/New_York:20260407T210000
DTSTAMP:20260421T080336
CREATED:20251112T155926Z
LAST-MODIFIED:20260301T142326Z
UID:39678-1775586600-1775595600@westonaic.org
SUMMARY:Advanced Beginners Watercolor: Night
DESCRIPTION:This relaxed watercolor class is geared towards watercolor students who have taken a beginner class and are more familiar with the main watercolor techniques. \nThis class will be project-based and any techniques required for the particular project will be reviewed. The projects will include subjects like fruit and vegetables\, flowers that are not too complex\, landscapes with a tree and/or barn\, seascapes with a boat or lighthouse\, a leaf\, and bird or animal. All the line drawings for each project will be provided to trace or freehand draw with live demonstrations of each step in the painting process (including color mixing). One-on-one attention is provided continually during class. Materials List linked below. Registration closes Feb 28. \n  \nMinimum # of Students: 4 \nMaximum # of Students: 12 \nCost: $125 (plus cost of materials) \nMaterials List \nDate: 7 Tuesdays: starting Tues\, Mar 3 (Mar 3\, 10\, 17\, 24\, 31\, Apr 7 & 14) (6:30pm-9pm) \n  \nJust a friendly reminder that classes which do not meet the minimum enrollment requirements will be canceled.
URL:https://westonaic.org/class/beginners-watercolor-two-night/2026-04-07/
LOCATION:The Loft\, 356 Boston Post Road\, 2nd floor\, Weston\, MA\, 02493\, United States
CATEGORIES:Classes,Fine Arts,Watercolor
ATTACH;FMTTYPE=image/png:https://westonaic.org/wp-content/uploads/2025/10/Watercolor-2-2.png
END:VEVENT
BEGIN:VEVENT
DTSTART;TZID=America/New_York:20260331T183000
DTEND;TZID=America/New_York:20260331T210000
DTSTAMP:20260421T080336
CREATED:20251112T155926Z
LAST-MODIFIED:20260301T142325Z
UID:39677-1774981800-1774990800@westonaic.org
SUMMARY:Advanced Beginners Watercolor: Night
DESCRIPTION:This relaxed watercolor class is geared towards watercolor students who have taken a beginner class and are more familiar with the main watercolor techniques. \nThis class will be project-based and any techniques required for the particular project will be reviewed. The projects will include subjects like fruit and vegetables\, flowers that are not too complex\, landscapes with a tree and/or barn\, seascapes with a boat or lighthouse\, a leaf\, and bird or animal. All the line drawings for each project will be provided to trace or freehand draw with live demonstrations of each step in the painting process (including color mixing). One-on-one attention is provided continually during class. Materials List linked below. Registration closes Feb 28. \n  \nMinimum # of Students: 4 \nMaximum # of Students: 12 \nCost: $125 (plus cost of materials) \nMaterials List \nDate: 7 Tuesdays: starting Tues\, Mar 3 (Mar 3\, 10\, 17\, 24\, 31\, Apr 7 & 14) (6:30pm-9pm) \n  \nJust a friendly reminder that classes which do not meet the minimum enrollment requirements will be canceled.
URL:https://westonaic.org/class/beginners-watercolor-two-night/2026-03-31/
LOCATION:The Loft\, 356 Boston Post Road\, 2nd floor\, Weston\, MA\, 02493\, United States
CATEGORIES:Classes,Fine Arts,Watercolor
ATTACH;FMTTYPE=image/png:https://westonaic.org/wp-content/uploads/2025/10/Watercolor-2-2.png
END:VEVENT
BEGIN:VEVENT
DTSTART;TZID=America/New_York:20260324T183000
DTEND;TZID=America/New_York:20260324T210000
DTSTAMP:20260421T080336
CREATED:20251112T155926Z
LAST-MODIFIED:20260301T142323Z
UID:39676-1774377000-1774386000@westonaic.org
SUMMARY:Advanced Beginners Watercolor: Night
DESCRIPTION:This relaxed watercolor class is geared towards watercolor students who have taken a beginner class and are more familiar with the main watercolor techniques. \nThis class will be project-based and any techniques required for the particular project will be reviewed. The projects will include subjects like fruit and vegetables\, flowers that are not too complex\, landscapes with a tree and/or barn\, seascapes with a boat or lighthouse\, a leaf\, and bird or animal. All the line drawings for each project will be provided to trace or freehand draw with live demonstrations of each step in the painting process (including color mixing). One-on-one attention is provided continually during class. Materials List linked below. Registration closes Feb 28. \n  \nMinimum # of Students: 4 \nMaximum # of Students: 12 \nCost: $125 (plus cost of materials) \nMaterials List \nDate: 7 Tuesdays: starting Tues\, Mar 3 (Mar 3\, 10\, 17\, 24\, 31\, Apr 7 & 14) (6:30pm-9pm) \n  \nJust a friendly reminder that classes which do not meet the minimum enrollment requirements will be canceled.
URL:https://westonaic.org/class/beginners-watercolor-two-night/2026-03-24/
LOCATION:The Loft\, 356 Boston Post Road\, 2nd floor\, Weston\, MA\, 02493\, United States
CATEGORIES:Classes,Fine Arts,Watercolor
ATTACH;FMTTYPE=image/png:https://westonaic.org/wp-content/uploads/2025/10/Watercolor-2-2.png
END:VEVENT
BEGIN:VEVENT
DTSTART;TZID=America/New_York:20260317T183000
DTEND;TZID=America/New_York:20260317T210000
DTSTAMP:20260421T080336
CREATED:20251112T155926Z
LAST-MODIFIED:20260301T142321Z
UID:39675-1773772200-1773781200@westonaic.org
SUMMARY:Advanced Beginners Watercolor: Night
DESCRIPTION:This relaxed watercolor class is geared towards watercolor students who have taken a beginner class and are more familiar with the main watercolor techniques. \nThis class will be project-based and any techniques required for the particular project will be reviewed. The projects will include subjects like fruit and vegetables\, flowers that are not too complex\, landscapes with a tree and/or barn\, seascapes with a boat or lighthouse\, a leaf\, and bird or animal. All the line drawings for each project will be provided to trace or freehand draw with live demonstrations of each step in the painting process (including color mixing). One-on-one attention is provided continually during class. Materials List linked below. Registration closes Feb 28. \n  \nMinimum # of Students: 4 \nMaximum # of Students: 12 \nCost: $125 (plus cost of materials) \nMaterials List \nDate: 7 Tuesdays: starting Tues\, Mar 3 (Mar 3\, 10\, 17\, 24\, 31\, Apr 7 & 14) (6:30pm-9pm) \n  \nJust a friendly reminder that classes which do not meet the minimum enrollment requirements will be canceled.
URL:https://westonaic.org/class/beginners-watercolor-two-night/2026-03-17/
LOCATION:The Loft\, 356 Boston Post Road\, 2nd floor\, Weston\, MA\, 02493\, United States
CATEGORIES:Classes,Fine Arts,Watercolor
ATTACH;FMTTYPE=image/png:https://westonaic.org/wp-content/uploads/2025/10/Watercolor-2-2.png
END:VEVENT
BEGIN:VEVENT
DTSTART;TZID=America/New_York:20260310T183000
DTEND;TZID=America/New_York:20260310T210000
DTSTAMP:20260421T080336
CREATED:20251112T155926Z
LAST-MODIFIED:20260301T142320Z
UID:39674-1773167400-1773176400@westonaic.org
SUMMARY:Advanced Beginners Watercolor: Night
DESCRIPTION:This relaxed watercolor class is geared towards watercolor students who have taken a beginner class and are more familiar with the main watercolor techniques. \nThis class will be project-based and any techniques required for the particular project will be reviewed. The projects will include subjects like fruit and vegetables\, flowers that are not too complex\, landscapes with a tree and/or barn\, seascapes with a boat or lighthouse\, a leaf\, and bird or animal. All the line drawings for each project will be provided to trace or freehand draw with live demonstrations of each step in the painting process (including color mixing). One-on-one attention is provided continually during class. Materials List linked below. Registration closes Feb 28. \n  \nMinimum # of Students: 4 \nMaximum # of Students: 12 \nCost: $125 (plus cost of materials) \nMaterials List \nDate: 7 Tuesdays: starting Tues\, Mar 3 (Mar 3\, 10\, 17\, 24\, 31\, Apr 7 & 14) (6:30pm-9pm) \n  \nJust a friendly reminder that classes which do not meet the minimum enrollment requirements will be canceled.
URL:https://westonaic.org/class/beginners-watercolor-two-night/2026-03-10/
LOCATION:The Loft\, 356 Boston Post Road\, 2nd floor\, Weston\, MA\, 02493\, United States
CATEGORIES:Classes,Fine Arts,Watercolor
ATTACH;FMTTYPE=image/png:https://westonaic.org/wp-content/uploads/2025/10/Watercolor-2-2.png
END:VEVENT
BEGIN:VEVENT
DTSTART;TZID=America/New_York:20260303T183000
DTEND;TZID=America/New_York:20260303T210000
DTSTAMP:20260421T080336
CREATED:20251112T155926Z
LAST-MODIFIED:20260301T142316Z
UID:39672-1772562600-1772571600@westonaic.org
SUMMARY:Advanced Beginners Watercolor: Night
DESCRIPTION:This relaxed watercolor class is geared towards watercolor students who have taken a beginner class and are more familiar with the main watercolor techniques. \nThis class will be project-based and any techniques required for the particular project will be reviewed. The projects will include subjects like fruit and vegetables\, flowers that are not too complex\, landscapes with a tree and/or barn\, seascapes with a boat or lighthouse\, a leaf\, and bird or animal. All the line drawings for each project will be provided to trace or freehand draw with live demonstrations of each step in the painting process (including color mixing). One-on-one attention is provided continually during class. Materials List linked below. Registration closes Feb 28. \n  \nMinimum # of Students: 4 \nMaximum # of Students: 12 \nCost: $125 (plus cost of materials) \nMaterials List \nDate: 7 Tuesdays: starting Tues\, Mar 3 (Mar 3\, 10\, 17\, 24\, 31\, Apr 7 & 14) (6:30pm-9pm) \n  \nJust a friendly reminder that classes which do not meet the minimum enrollment requirements will be canceled.
URL:https://westonaic.org/class/beginners-watercolor-two-night/2026-03-03/
LOCATION:The Loft\, 356 Boston Post Road\, 2nd floor\, Weston\, MA\, 02493\, United States
CATEGORIES:Classes,Fine Arts,Watercolor
ATTACH;FMTTYPE=image/png:https://westonaic.org/wp-content/uploads/2025/10/Watercolor-2-2.png
END:VEVENT
END:VCALENDAR