BEGIN:VCALENDAR
VERSION:2.0
PRODID:-//Weston Art &amp; Innovation Center - ECPv6.15.20//NONSGML v1.0//EN
CALSCALE:GREGORIAN
METHOD:PUBLISH
X-WR-CALNAME:Weston Art &amp; Innovation Center
X-ORIGINAL-URL:https://westonaic.org
X-WR-CALDESC:Events for Weston Art &amp; Innovation Center
REFRESH-INTERVAL;VALUE=DURATION:PT1H
X-Robots-Tag:noindex
X-PUBLISHED-TTL:PT1H
BEGIN:VTIMEZONE
TZID:America/New_York
BEGIN:DAYLIGHT
TZOFFSETFROM:-0500
TZOFFSETTO:-0400
TZNAME:EDT
DTSTART:20250309T070000
END:DAYLIGHT
BEGIN:STANDARD
TZOFFSETFROM:-0400
TZOFFSETTO:-0500
TZNAME:EST
DTSTART:20251102T060000
END:STANDARD
BEGIN:DAYLIGHT
TZOFFSETFROM:-0500
TZOFFSETTO:-0400
TZNAME:EDT
DTSTART:20260308T070000
END:DAYLIGHT
BEGIN:STANDARD
TZOFFSETFROM:-0400
TZOFFSETTO:-0500
TZNAME:EST
DTSTART:20261101T060000
END:STANDARD
BEGIN:DAYLIGHT
TZOFFSETFROM:-0500
TZOFFSETTO:-0400
TZNAME:EDT
DTSTART:20270314T070000
END:DAYLIGHT
BEGIN:STANDARD
TZOFFSETFROM:-0400
TZOFFSETTO:-0500
TZNAME:EST
DTSTART:20271107T060000
END:STANDARD
END:VTIMEZONE
BEGIN:VEVENT
DTSTART;TZID=America/New_York:20260430T183000
DTEND;TZID=America/New_York:20260430T210000
DTSTAMP:20260422T081356
CREATED:20260213T185746Z
LAST-MODIFIED:20260417T135823Z
UID:40862-1777573800-1777582800@westonaic.org
SUMMARY:SOLD OUT: Intermediate Watercolor Series
DESCRIPTION:This course is geared towards students who have had some experience in watercolor. The focus will be practicing the essential techniques of watercolor with a simple project each week. The projects often focus on particular skills\, especially understanding values\, water to pigment ratios\, washes\, color mixing to give your work form and dimension. All projects are demonstrated step-by-step and individual assistance is offered. The projects are nature-based including flowers\, birds\, landscapes\, seascapes\, still life fruit and vegetables. Registration closes April 27. \n  \nMinimum # of Students: 4 \nMaximum # of Students: 12 \nCost: $125 (plus cost of materials) \nMaterials List \nDate: 7 Thursdays: starting Thurs\, April 30 (April 30\, May 7\, 14\, 21\, 28\, June 4\, 11) (6:30pm-9pm) \n  \nJust a friendly reminder that classes which do not meet the minimum enrollment requirements will be canceled.
URL:https://westonaic.org/class/intermediate-watercolor-series-night-3/2026-04-30/
LOCATION:The Loft\, 356 Boston Post Road\, 2nd floor\, Weston\, MA\, 02493\, United States
CATEGORIES:Classes,Fine Arts,Painting,Watercolor
ATTACH;FMTTYPE=image/png:https://westonaic.org/wp-content/uploads/2024/12/6.png
END:VEVENT
BEGIN:VEVENT
DTSTART;TZID=America/New_York:20260507T183000
DTEND;TZID=America/New_York:20260507T210000
DTSTAMP:20260422T081356
CREATED:20260213T185746Z
LAST-MODIFIED:20260417T135824Z
UID:40864-1778178600-1778187600@westonaic.org
SUMMARY:SOLD OUT: Intermediate Watercolor Series
DESCRIPTION:This course is geared towards students who have had some experience in watercolor. The focus will be practicing the essential techniques of watercolor with a simple project each week. The projects often focus on particular skills\, especially understanding values\, water to pigment ratios\, washes\, color mixing to give your work form and dimension. All projects are demonstrated step-by-step and individual assistance is offered. The projects are nature-based including flowers\, birds\, landscapes\, seascapes\, still life fruit and vegetables. Registration closes April 27. \n  \nMinimum # of Students: 4 \nMaximum # of Students: 12 \nCost: $125 (plus cost of materials) \nMaterials List \nDate: 7 Thursdays: starting Thurs\, April 30 (April 30\, May 7\, 14\, 21\, 28\, June 4\, 11) (6:30pm-9pm) \n  \nJust a friendly reminder that classes which do not meet the minimum enrollment requirements will be canceled.
URL:https://westonaic.org/class/intermediate-watercolor-series-night-3/2026-05-07/
LOCATION:The Loft\, 356 Boston Post Road\, 2nd floor\, Weston\, MA\, 02493\, United States
CATEGORIES:Classes,Fine Arts,Painting,Watercolor
ATTACH;FMTTYPE=image/png:https://westonaic.org/wp-content/uploads/2024/12/6.png
END:VEVENT
BEGIN:VEVENT
DTSTART;TZID=America/New_York:20260514T183000
DTEND;TZID=America/New_York:20260514T210000
DTSTAMP:20260422T081356
CREATED:20260213T185746Z
LAST-MODIFIED:20260417T135824Z
UID:40865-1778783400-1778792400@westonaic.org
SUMMARY:SOLD OUT: Intermediate Watercolor Series
DESCRIPTION:This course is geared towards students who have had some experience in watercolor. The focus will be practicing the essential techniques of watercolor with a simple project each week. The projects often focus on particular skills\, especially understanding values\, water to pigment ratios\, washes\, color mixing to give your work form and dimension. All projects are demonstrated step-by-step and individual assistance is offered. The projects are nature-based including flowers\, birds\, landscapes\, seascapes\, still life fruit and vegetables. Registration closes April 27. \n  \nMinimum # of Students: 4 \nMaximum # of Students: 12 \nCost: $125 (plus cost of materials) \nMaterials List \nDate: 7 Thursdays: starting Thurs\, April 30 (April 30\, May 7\, 14\, 21\, 28\, June 4\, 11) (6:30pm-9pm) \n  \nJust a friendly reminder that classes which do not meet the minimum enrollment requirements will be canceled.
URL:https://westonaic.org/class/intermediate-watercolor-series-night-3/2026-05-14/
LOCATION:The Loft\, 356 Boston Post Road\, 2nd floor\, Weston\, MA\, 02493\, United States
CATEGORIES:Classes,Fine Arts,Painting,Watercolor
ATTACH;FMTTYPE=image/png:https://westonaic.org/wp-content/uploads/2024/12/6.png
END:VEVENT
BEGIN:VEVENT
DTSTART;TZID=America/New_York:20260521T183000
DTEND;TZID=America/New_York:20260521T210000
DTSTAMP:20260422T081356
CREATED:20260213T185746Z
LAST-MODIFIED:20260417T135825Z
UID:40866-1779388200-1779397200@westonaic.org
SUMMARY:SOLD OUT: Intermediate Watercolor Series
DESCRIPTION:This course is geared towards students who have had some experience in watercolor. The focus will be practicing the essential techniques of watercolor with a simple project each week. The projects often focus on particular skills\, especially understanding values\, water to pigment ratios\, washes\, color mixing to give your work form and dimension. All projects are demonstrated step-by-step and individual assistance is offered. The projects are nature-based including flowers\, birds\, landscapes\, seascapes\, still life fruit and vegetables. Registration closes April 27. \n  \nMinimum # of Students: 4 \nMaximum # of Students: 12 \nCost: $125 (plus cost of materials) \nMaterials List \nDate: 7 Thursdays: starting Thurs\, April 30 (April 30\, May 7\, 14\, 21\, 28\, June 4\, 11) (6:30pm-9pm) \n  \nJust a friendly reminder that classes which do not meet the minimum enrollment requirements will be canceled.
URL:https://westonaic.org/class/intermediate-watercolor-series-night-3/2026-05-21/
LOCATION:The Loft\, 356 Boston Post Road\, 2nd floor\, Weston\, MA\, 02493\, United States
CATEGORIES:Classes,Fine Arts,Painting,Watercolor
ATTACH;FMTTYPE=image/png:https://westonaic.org/wp-content/uploads/2024/12/6.png
END:VEVENT
BEGIN:VEVENT
DTSTART;TZID=America/New_York:20260528T183000
DTEND;TZID=America/New_York:20260528T210000
DTSTAMP:20260422T081356
CREATED:20260213T185746Z
LAST-MODIFIED:20260417T135827Z
UID:40867-1779993000-1780002000@westonaic.org
SUMMARY:SOLD OUT: Intermediate Watercolor Series
DESCRIPTION:This course is geared towards students who have had some experience in watercolor. The focus will be practicing the essential techniques of watercolor with a simple project each week. The projects often focus on particular skills\, especially understanding values\, water to pigment ratios\, washes\, color mixing to give your work form and dimension. All projects are demonstrated step-by-step and individual assistance is offered. The projects are nature-based including flowers\, birds\, landscapes\, seascapes\, still life fruit and vegetables. Registration closes April 27. \n  \nMinimum # of Students: 4 \nMaximum # of Students: 12 \nCost: $125 (plus cost of materials) \nMaterials List \nDate: 7 Thursdays: starting Thurs\, April 30 (April 30\, May 7\, 14\, 21\, 28\, June 4\, 11) (6:30pm-9pm) \n  \nJust a friendly reminder that classes which do not meet the minimum enrollment requirements will be canceled.
URL:https://westonaic.org/class/intermediate-watercolor-series-night-3/2026-05-28/
LOCATION:The Loft\, 356 Boston Post Road\, 2nd floor\, Weston\, MA\, 02493\, United States
CATEGORIES:Classes,Fine Arts,Painting,Watercolor
ATTACH;FMTTYPE=image/png:https://westonaic.org/wp-content/uploads/2024/12/6.png
END:VEVENT
BEGIN:VEVENT
DTSTART;TZID=America/New_York:20260604T183000
DTEND;TZID=America/New_York:20260604T210000
DTSTAMP:20260422T081356
CREATED:20260213T185746Z
LAST-MODIFIED:20260417T135829Z
UID:40868-1780597800-1780606800@westonaic.org
SUMMARY:SOLD OUT: Intermediate Watercolor Series
DESCRIPTION:This course is geared towards students who have had some experience in watercolor. The focus will be practicing the essential techniques of watercolor with a simple project each week. The projects often focus on particular skills\, especially understanding values\, water to pigment ratios\, washes\, color mixing to give your work form and dimension. All projects are demonstrated step-by-step and individual assistance is offered. The projects are nature-based including flowers\, birds\, landscapes\, seascapes\, still life fruit and vegetables. Registration closes April 27. \n  \nMinimum # of Students: 4 \nMaximum # of Students: 12 \nCost: $125 (plus cost of materials) \nMaterials List \nDate: 7 Thursdays: starting Thurs\, April 30 (April 30\, May 7\, 14\, 21\, 28\, June 4\, 11) (6:30pm-9pm) \n  \nJust a friendly reminder that classes which do not meet the minimum enrollment requirements will be canceled.
URL:https://westonaic.org/class/intermediate-watercolor-series-night-3/2026-06-04/
LOCATION:The Loft\, 356 Boston Post Road\, 2nd floor\, Weston\, MA\, 02493\, United States
CATEGORIES:Classes,Fine Arts,Painting,Watercolor
ATTACH;FMTTYPE=image/png:https://westonaic.org/wp-content/uploads/2024/12/6.png
END:VEVENT
BEGIN:VEVENT
DTSTART;TZID=America/New_York:20260611T183000
DTEND;TZID=America/New_York:20260611T210000
DTSTAMP:20260422T081356
CREATED:20260213T185746Z
LAST-MODIFIED:20260417T135831Z
UID:40869-1781202600-1781211600@westonaic.org
SUMMARY:SOLD OUT: Intermediate Watercolor Series
DESCRIPTION:This course is geared towards students who have had some experience in watercolor. The focus will be practicing the essential techniques of watercolor with a simple project each week. The projects often focus on particular skills\, especially understanding values\, water to pigment ratios\, washes\, color mixing to give your work form and dimension. All projects are demonstrated step-by-step and individual assistance is offered. The projects are nature-based including flowers\, birds\, landscapes\, seascapes\, still life fruit and vegetables. Registration closes April 27. \n  \nMinimum # of Students: 4 \nMaximum # of Students: 12 \nCost: $125 (plus cost of materials) \nMaterials List \nDate: 7 Thursdays: starting Thurs\, April 30 (April 30\, May 7\, 14\, 21\, 28\, June 4\, 11) (6:30pm-9pm) \n  \nJust a friendly reminder that classes which do not meet the minimum enrollment requirements will be canceled.
URL:https://westonaic.org/class/intermediate-watercolor-series-night-3/2026-06-11/
LOCATION:The Loft\, 356 Boston Post Road\, 2nd floor\, Weston\, MA\, 02493\, United States
CATEGORIES:Classes,Fine Arts,Painting,Watercolor
ATTACH;FMTTYPE=image/png:https://westonaic.org/wp-content/uploads/2024/12/6.png
END:VEVENT
END:VCALENDAR