BEGIN:VCALENDAR
VERSION:2.0
PRODID:-//Weston Art &amp; Innovation Center - ECPv6.15.20//NONSGML v1.0//EN
CALSCALE:GREGORIAN
METHOD:PUBLISH
X-ORIGINAL-URL:https://westonaic.org
X-WR-CALDESC:Events for Weston Art &amp; Innovation Center
REFRESH-INTERVAL;VALUE=DURATION:PT1H
X-Robots-Tag:noindex
X-PUBLISHED-TTL:PT1H
BEGIN:VTIMEZONE
TZID:America/New_York
BEGIN:DAYLIGHT
TZOFFSETFROM:-0500
TZOFFSETTO:-0400
TZNAME:EDT
DTSTART:20210314T070000
END:DAYLIGHT
BEGIN:STANDARD
TZOFFSETFROM:-0400
TZOFFSETTO:-0500
TZNAME:EST
DTSTART:20211107T060000
END:STANDARD
BEGIN:DAYLIGHT
TZOFFSETFROM:-0500
TZOFFSETTO:-0400
TZNAME:EDT
DTSTART:20220313T070000
END:DAYLIGHT
BEGIN:STANDARD
TZOFFSETFROM:-0400
TZOFFSETTO:-0500
TZNAME:EST
DTSTART:20221106T060000
END:STANDARD
BEGIN:DAYLIGHT
TZOFFSETFROM:-0500
TZOFFSETTO:-0400
TZNAME:EDT
DTSTART:20230312T070000
END:DAYLIGHT
BEGIN:STANDARD
TZOFFSETFROM:-0400
TZOFFSETTO:-0500
TZNAME:EST
DTSTART:20231105T060000
END:STANDARD
END:VTIMEZONE
BEGIN:VEVENT
DTSTART;TZID=America/New_York:20220910T130000
DTEND;TZID=America/New_York:20220910T160000
DTSTAMP:20260421T053915
CREATED:20220603T195246Z
LAST-MODIFIED:20220831T175846Z
UID:24352-1662814800-1662825600@westonaic.org
SUMMARY:Open Maker Hours
DESCRIPTION:Welcome students\, artists\, makers\, and the craft curious! \nOpen Maker Hours are dedicated to anyone who would like to use either of our studio spaces to work independently on personal projects. You are welcome to use our equipment (3D printers\, Cricut Makers\, printing press\, and/or sewing machines) once you have been certified. \nTo be certified on our equipment please sign up for one of our Certification Saturday Sessions or register for Sewing Fundamentals. If you would like to make an appointment outside of Open Maker Hours please email us at info@westonaic.org. \nJust a friendly reminder that you must provide your own materials and there is no instruction provided unless otherwise stated. \nCost: $5 at the door (cash or credit)
URL:https://westonaic.org/class/open-maker-hours-63-2022-09-03-2022-09-10/2022-09-10/
LOCATION:The Loft and the Toolshed
CATEGORIES:Open Maker Hours
ATTACH;FMTTYPE=image/png:https://westonaic.org/wp-content/uploads/2022/03/AIC-Website-Open-Maker.png
END:VEVENT
END:VCALENDAR