BEGIN:VCALENDAR
VERSION:2.0
PRODID:-//Weston Art &amp; Innovation Center - ECPv6.15.20//NONSGML v1.0//EN
CALSCALE:GREGORIAN
METHOD:PUBLISH
X-WR-CALNAME:Weston Art &amp; Innovation Center
X-ORIGINAL-URL:https://westonaic.org
X-WR-CALDESC:Events for Weston Art &amp; Innovation Center
REFRESH-INTERVAL;VALUE=DURATION:PT1H
X-Robots-Tag:noindex
X-PUBLISHED-TTL:PT1H
BEGIN:VTIMEZONE
TZID:America/New_York
BEGIN:DAYLIGHT
TZOFFSETFROM:-0500
TZOFFSETTO:-0400
TZNAME:EDT
DTSTART:20240310T070000
END:DAYLIGHT
BEGIN:STANDARD
TZOFFSETFROM:-0400
TZOFFSETTO:-0500
TZNAME:EST
DTSTART:20241103T060000
END:STANDARD
BEGIN:DAYLIGHT
TZOFFSETFROM:-0500
TZOFFSETTO:-0400
TZNAME:EDT
DTSTART:20250309T070000
END:DAYLIGHT
BEGIN:STANDARD
TZOFFSETFROM:-0400
TZOFFSETTO:-0500
TZNAME:EST
DTSTART:20251102T060000
END:STANDARD
BEGIN:DAYLIGHT
TZOFFSETFROM:-0500
TZOFFSETTO:-0400
TZNAME:EDT
DTSTART:20260308T070000
END:DAYLIGHT
BEGIN:STANDARD
TZOFFSETFROM:-0400
TZOFFSETTO:-0500
TZNAME:EST
DTSTART:20261101T060000
END:STANDARD
END:VTIMEZONE
BEGIN:VEVENT
DTSTART;TZID=America/New_York:20250327T100000
DTEND;TZID=America/New_York:20250327T140000
DTSTAMP:20260419T081245
CREATED:20241127T173447Z
LAST-MODIFIED:20250226T145956Z
UID:36227-1743069600-1743084000@westonaic.org
SUMMARY:Print and Sew: Apron
DESCRIPTION:Join us to make your own custom block-printed apron.  During this short series\, you will cut and sew your apron\, design\, make\, and print your apron using your custom blocks and textile ink.  Several fabric colors will be available. You will go home with your completed apron\, custom stamps\, and detailed instructions. \nFundamentals of Machine Sewing (or the ability to thread a sewing machine and wind a bobbin) is a pre-requisite. Registration closes Mar 17. \n  \nMinimum # of Students: 3 \nMaximum # of Students: 6 \nCost: $65 ($15 materials fee paid to instructor) \nDate: Two Thursdays Mar 20 & Mar 27 (10am-2pm) \n  \nJust a friendly reminder that classes which do not meet the minimum enrollment requirements will be canceled.
URL:https://westonaic.org/class/print-and-sew-apron/2025-03-27/
LOCATION:The Loft and the Toolshed
CATEGORIES:Classes,Fiber Arts,Fine Arts,Sewing
ATTACH;FMTTYPE=image/png:https://westonaic.org/wp-content/uploads/2024/11/4-1.png
END:VEVENT
BEGIN:VEVENT
DTSTART;TZID=America/New_York:20250320T100000
DTEND;TZID=America/New_York:20250320T140000
DTSTAMP:20260419T081245
CREATED:20241127T173447Z
LAST-MODIFIED:20250226T145952Z
UID:36224-1742464800-1742479200@westonaic.org
SUMMARY:Print and Sew: Apron
DESCRIPTION:Join us to make your own custom block-printed apron.  During this short series\, you will cut and sew your apron\, design\, make\, and print your apron using your custom blocks and textile ink.  Several fabric colors will be available. You will go home with your completed apron\, custom stamps\, and detailed instructions. \nFundamentals of Machine Sewing (or the ability to thread a sewing machine and wind a bobbin) is a pre-requisite. Registration closes Mar 17. \n  \nMinimum # of Students: 3 \nMaximum # of Students: 6 \nCost: $65 ($15 materials fee paid to instructor) \nDate: Two Thursdays Mar 20 & Mar 27 (10am-2pm) \n  \nJust a friendly reminder that classes which do not meet the minimum enrollment requirements will be canceled.
URL:https://westonaic.org/class/print-and-sew-apron/2025-03-20/
LOCATION:The Loft and the Toolshed
CATEGORIES:Classes,Fiber Arts,Fine Arts,Sewing
ATTACH;FMTTYPE=image/png:https://westonaic.org/wp-content/uploads/2024/11/4-1.png
END:VEVENT
END:VCALENDAR