BEGIN:VCALENDAR
VERSION:2.0
PRODID:-//Weston Art &amp; Innovation Center - ECPv6.15.20//NONSGML v1.0//EN
CALSCALE:GREGORIAN
METHOD:PUBLISH
X-WR-CALNAME:Weston Art &amp; Innovation Center
X-ORIGINAL-URL:https://westonaic.org
X-WR-CALDESC:Events for Weston Art &amp; Innovation Center
REFRESH-INTERVAL;VALUE=DURATION:PT1H
X-Robots-Tag:noindex
X-PUBLISHED-TTL:PT1H
BEGIN:VTIMEZONE
TZID:America/New_York
BEGIN:DAYLIGHT
TZOFFSETFROM:-0500
TZOFFSETTO:-0400
TZNAME:EDT
DTSTART:20250309T070000
END:DAYLIGHT
BEGIN:STANDARD
TZOFFSETFROM:-0400
TZOFFSETTO:-0500
TZNAME:EST
DTSTART:20251102T060000
END:STANDARD
BEGIN:DAYLIGHT
TZOFFSETFROM:-0500
TZOFFSETTO:-0400
TZNAME:EDT
DTSTART:20260308T070000
END:DAYLIGHT
BEGIN:STANDARD
TZOFFSETFROM:-0400
TZOFFSETTO:-0500
TZNAME:EST
DTSTART:20261101T060000
END:STANDARD
BEGIN:DAYLIGHT
TZOFFSETFROM:-0500
TZOFFSETTO:-0400
TZNAME:EDT
DTSTART:20270314T070000
END:DAYLIGHT
BEGIN:STANDARD
TZOFFSETFROM:-0400
TZOFFSETTO:-0500
TZNAME:EST
DTSTART:20271107T060000
END:STANDARD
END:VTIMEZONE
BEGIN:VEVENT
DTSTART;TZID=America/New_York:20260424T100000
DTEND;TZID=America/New_York:20260424T123000
DTSTAMP:20260424T115851
CREATED:20251220T201857Z
LAST-MODIFIED:20251220T201923Z
UID:40334-1777024800-1777033800@westonaic.org
SUMMARY:Pet Portrait
DESCRIPTION:Create a colorful portrait of your favorite furry friend! In this class\, everyone will trace a reference photo of their pet and paint it in a bold\, colorful style. \nStep-by-step guidance makes this class approachable and fun for all skill levels—no prior painting experience needed. You’ll leave with a framed\, finished pet portrait ready to take home and show off. \n  \nMaximum # of Students: 8 \nCost: $45 (materials included) \nDate: Friday\, April 24th (10am-12:30pm)
URL:https://westonaic.org/class/pet-portrait/
LOCATION:MA
CATEGORIES:Candle Making,Classes,Crafts
ATTACH;FMTTYPE=image/png:https://westonaic.org/wp-content/uploads/2025/12/pet-portrait.png
END:VEVENT
BEGIN:VEVENT
DTSTART;TZID=America/New_York:20260425T100000
DTEND;TZID=America/New_York:20260425T130000
DTSTAMP:20260424T115851
CREATED:20260304T190852Z
LAST-MODIFIED:20260408T183757Z
UID:41053-1777111200-1777122000@westonaic.org
SUMMARY:Drop-In Event: Custom Name Sign
DESCRIPTION:Drop in to the AIC and watch as we customize a wood sign with your name on it using the laser cutter. Once your sign is cut\, you’ll get to paint and decorate it to your liking! \nAll ages are welcome. Children 12 and younger must be accompanied by an adult. \nCost: $10 per sign (pay at the door) \nDrop-In: Sat\, Apr 25 (10am-1pm) \nInstructor: Abby
URL:https://westonaic.org/class/drop-in-event-custom-name-sign-3/
LOCATION:The Toolshed\, 356 Boston Post Road\, 1st floor\, Weston\, MA\, 02493\, United States
CATEGORIES:Classes,Crafts,Family Drop-ins
ATTACH;FMTTYPE=image/png:https://westonaic.org/wp-content/uploads/2025/10/Family-name-signs-4.png
END:VEVENT
BEGIN:VEVENT
DTSTART;TZID=America/New_York:20260426T130000
DTEND;TZID=America/New_York:20260426T160000
DTSTAMP:20260424T115851
CREATED:20260406T145750Z
LAST-MODIFIED:20260406T150747Z
UID:41298-1777208400-1777219200@westonaic.org
SUMMARY:One Day Collage Workshop
DESCRIPTION:Create finished\, one-of-a-kind artworks in this hands-on single afternoon collage workshop using our printing press. \nParticipants will layer and arrange a variety of papers—including richly textured gelli print papers—directly onto a base sheet\, then run their compositions through our press to unify the elements into cohesive pieces. This process adds subtle compression\, texture\, and unexpected visual blending\, enhancing depth and surface quality. The workshop emphasizes experimentation\, composition\, and creative play\, guiding participants from loose arrangements to polished final artworks. Suitable for all skill levels\, it’s an inviting space to explore collage in a fresh\, print-based way. Please bring your own unique collage papers. Base paper and other materials will be provided. Registration closes Apr 23. \n  \nMinimum # of Students: 4 \nMaximum # of Students: 8 \nCost: $45  ($10 Materials Fee payable to the instructor ) \nDate: Sunday\, April 26  (1pm-4pm) \n\n\n\nTeacher: Carol Ryan \n  \n\nJust a friendly reminder that classes which do not meet the minimum enrollment requirements will be canceled.
URL:https://westonaic.org/class/one-day-collage-workshop/
LOCATION:The Toolshed\, 356 Boston Post Road\, 1st floor\, Weston\, MA\, 02493\, United States
CATEGORIES:Classes,Crafts,Fine Arts,Paper Crafts,Printmaking
ATTACH;FMTTYPE=image/png:https://westonaic.org/wp-content/uploads/2026/04/Collage-1.png
END:VEVENT
BEGIN:VEVENT
DTSTART;TZID=America/New_York:20260426T130000
DTEND;TZID=America/New_York:20260426T160000
DTSTAMP:20260424T115851
CREATED:20260406T150636Z
LAST-MODIFIED:20260410T155735Z
UID:41304-1777208400-1777219200@westonaic.org
SUMMARY:Fish Pillow Workshop
DESCRIPTION:Join us for a Sunday Fiber Art class and design and make your own fish pillow. Patterns and a wide selection of fabrics will be available to design your unique fish pillow with. All necessary materials\, including the fiber-fil\, will be available in the materials kit. All experience levels are welcome. This class is ideally suited for ages 13+. Registration closes Apr 23. \n  \n\nMinimum # of Students: 4\n\nMaximum # of Students: 8\n\nCost: $45 plus ($10 materials fee paid to instructor)\n\nDate: Sunday\, April 26  (1pm-4pm)\n\nTeacher: Carson Eddy\n  \nJust a friendly reminder that classes which do not meet the minimum enrollment requirements will be canceled.
URL:https://westonaic.org/class/fish-pillow-workshop/
LOCATION:The Toolshed\, 356 Boston Post Road\, 1st floor\, Weston\, MA\, 02493\, United States
CATEGORIES:Classes,Crafts,Fiber Arts,Sewing
ATTACH;FMTTYPE=image/png:https://westonaic.org/wp-content/uploads/2026/04/Fish-Pillow.png
END:VEVENT
BEGIN:VEVENT
DTSTART;TZID=America/New_York:20260501T100000
DTEND;TZID=America/New_York:20260501T140000
DTSTAMP:20260424T115851
CREATED:20251125T160350Z
LAST-MODIFIED:20260422T142343Z
UID:40027-1777629600-1777644000@westonaic.org
SUMMARY:SOLD OUT: Wet-Felted and Embellished Spring Garden Workshop
DESCRIPTION:In this one-day workshop we will compose\, lay out\, and wet-felt a beautiful and colorful garden scene and wet-felt it. While it is drying\, we’ll take a break for lunch and come back and embellish it with stitching and beads. This class is suitable for beginners\, ages 14 and up. Very basic sewing skills will be taught if needed. Registration closes Apr 28.\n\n\n\n  \nMinimum # of Students: 4 \nMaximum # of Students: 6 \nCost: $55 ($20 materials fee paid to intructor) \nDate: Fri\, May 1 (10am-2pm) \n  \nJust a friendly reminder that classes which do not meet the minimum enrollment requirements will be canceled.
URL:https://westonaic.org/class/wet-felted-and-embellished-spring-garden-workshop/
LOCATION:The Loft\, 356 Boston Post Road\, 2nd floor\, Weston\, MA\, 02493\, United States
CATEGORIES:Classes,Crafts,Embroidery
ATTACH;FMTTYPE=image/png:https://westonaic.org/wp-content/uploads/2025/11/wet-felt.png
END:VEVENT
BEGIN:VEVENT
DTSTART;TZID=America/New_York:20260503T130000
DTEND;TZID=America/New_York:20260503T160000
DTSTAMP:20260424T115851
CREATED:20260406T150107Z
LAST-MODIFIED:20260423T172204Z
UID:41302-1777813200-1777824000@westonaic.org
SUMMARY:One Day Collage Workshop
DESCRIPTION:Create finished\, one-of-a-kind artworks in this hands-on single afternoon collage workshop using our printing press. \n  \nParticipants will layer and arrange a variety of papers—including richly textured gelli print papers—directly onto a base sheet\, then run their compositions through our press to unify the elements into cohesive pieces. This process adds subtle compression\, texture\, and unexpected visual blending\, enhancing depth and surface quality. The workshop emphasizes experimentation\, composition\, and creative play\, guiding participants from loose arrangements to polished final artworks. Suitable for all skill levels\, it’s an inviting space to explore collage in a fresh\, print-based way. Please bring your own unique collage papers. Base paper and other materials will be provided. Registration closes May 1. \n  \nMinimum # of Students: 4 \nMaximum # of Students: 8 \nCost: $45  ($10 Materials Fee payable to the instructor ) \nDate: Sunday\, May 3  (1pm-4pm) \n\n\n\nTeacher: Carol Ryan \n  \n\nJust a friendly reminder that classes which do not meet the minimum enrollment requirements will be canceled.
URL:https://westonaic.org/class/one-day-collage-workshop-2/
LOCATION:The Toolshed\, 356 Boston Post Road\, 1st floor\, Weston\, MA\, 02493\, United States
CATEGORIES:Classes,Crafts,Fine Arts,Paper Crafts,Printmaking
ATTACH;FMTTYPE=image/png:https://westonaic.org/wp-content/uploads/2026/04/Collage-1.png
END:VEVENT
BEGIN:VEVENT
DTSTART;TZID=America/New_York:20260509T100000
DTEND;TZID=America/New_York:20260509T130000
DTSTAMP:20260424T115851
CREATED:20260228T203844Z
LAST-MODIFIED:20260304T210405Z
UID:41020-1778320800-1778331600@westonaic.org
SUMMARY:Drop-In: Mother's Day Family Tree
DESCRIPTION:This is a family friendly event! Come into the AIC on the day before Mother’s Day and watch as we customize and laser cut a family tree for Mom with all your family names. You’ll get a chance to paint your masterpiece too! Walk out of the AIC with a perfect gift for the mom or mom figure you love.  \nOpen to families with kids of all ages\, minimum one adult per group.  \n  \nCost: $10 at the door \nDate: Sat\, May 9 (Drop in 10am-1pm) \nInstructor: Abby
URL:https://westonaic.org/class/drop-in-mothers-day-family-tree/
LOCATION:The Toolshed\, 356 Boston Post Road\, 1st floor\, Weston\, MA\, 02493\, United States
CATEGORIES:Classes,Crafts,Equipment Training,Family Drop-ins,Laser Cutter,Tech/Fabrication
ATTACH;FMTTYPE=image/png:https://westonaic.org/wp-content/uploads/2026/02/mothers-day-tree1.png
END:VEVENT
BEGIN:VEVENT
DTSTART;TZID=America/New_York:20260529T100000
DTEND;TZID=America/New_York:20260529T120000
DTSTAMP:20260424T115851
CREATED:20260304T183405Z
LAST-MODIFIED:20260304T183405Z
UID:41048-1780048800-1780056000@westonaic.org
SUMMARY:Paper Beads
DESCRIPTION:This class will introduce you to the fun and easy craft of creating paper beads. This hobby is a great way to create colorful jewelry that is very affordable – you can even use old newspapers or magazines! You’ll learn how to make beads with different shapes and use your completed beads to create a keychain or bracelet. \n  \nMinimum # of Students: 2 \nMaximum # of Students: 8 \nCost: $45 \nDate: Friday May 29th (10am – 12pm) \n  \nJust a friendly reminder that classes which do not meet the minimum enrollment requirements will be canceled.
URL:https://westonaic.org/class/paper-beads/
LOCATION:The Loft\, 356 Boston Post Road\, 2nd floor\, Weston\, MA\, 02493\, United States
CATEGORIES:Classes,Crafts,Jewelry,Paper Crafts
ATTACH;FMTTYPE=image/png:https://westonaic.org/wp-content/uploads/2026/03/paper-beads.png
END:VEVENT
BEGIN:VEVENT
DTSTART;TZID=America/New_York:20260605T100000
DTEND;TZID=America/New_York:20260605T120000
DTSTAMP:20260424T115851
CREATED:20251113T160306Z
LAST-MODIFIED:20251120T164653Z
UID:39736-1780653600-1780660800@westonaic.org
SUMMARY:Drop-In: Coffee & Crafts
DESCRIPTION:Drop in and join other makers in the Loft to make crafts and enjoy a cup of coffee or tea! Bring your own project and enjoy some time with other crafters and creatives. Supplies and instruction will not be provided. Coffee and tea will be offered! \n  \nCost: $5 at the door (Maker Hours Fee) \nDate: First Fridays of the Month (10am-12pm)
URL:https://westonaic.org/class/drop-in-coffee-crafts-2/2026-06-05/
LOCATION:The Loft\, 356 Boston Post Road\, 2nd floor\, Weston\, MA\, 02493\, United States
CATEGORIES:Classes,Crafts
ATTACH;FMTTYPE=image/png:https://westonaic.org/wp-content/uploads/2024/12/2.png
END:VEVENT
BEGIN:VEVENT
DTSTART;TZID=America/New_York:20260620T100000
DTEND;TZID=America/New_York:20260620T130000
DTSTAMP:20260424T115851
CREATED:20260306T203826Z
LAST-MODIFIED:20260306T203826Z
UID:41100-1781949600-1781960400@westonaic.org
SUMMARY:Drop-In: Father's Day Mosaic Photo Frame
DESCRIPTION:Come into the AIC on the day before Father’s Day and decorate a special photo frame. Choose a photo on your phone and we’ll even print it out for you! Walk out of the AIC with a perfect gift for the dad or dad-figure you love. \nOpen to families with kids of all ages\, minimum one adult per group.  \n  \nCost: $10 at the door \nDate: Saturday\, June 20th (Drop in 10am-1pm) \nInstructor: Abby
URL:https://westonaic.org/class/drop-in-fathers-day-mosaic-photo-frame/
LOCATION:The Toolshed\, 356 Boston Post Road\, 1st floor\, Weston\, MA\, 02493\, United States
CATEGORIES:Classes,Crafts,Equipment Training,Family Drop-ins,Laser Cutter,Tech/Fabrication
ATTACH;FMTTYPE=image/png:https://westonaic.org/wp-content/uploads/2026/03/mosaic-photo-frame-fathers-day-1.png
END:VEVENT
END:VCALENDAR