BEGIN:VCALENDAR
VERSION:2.0
PRODID:-//Weston Art &amp; Innovation Center - ECPv6.15.20//NONSGML v1.0//EN
CALSCALE:GREGORIAN
METHOD:PUBLISH
X-WR-CALNAME:Weston Art &amp; Innovation Center
X-ORIGINAL-URL:https://westonaic.org
X-WR-CALDESC:Events for Weston Art &amp; Innovation Center
REFRESH-INTERVAL;VALUE=DURATION:PT1H
X-Robots-Tag:noindex
X-PUBLISHED-TTL:PT1H
BEGIN:VTIMEZONE
TZID:America/New_York
BEGIN:DAYLIGHT
TZOFFSETFROM:-0500
TZOFFSETTO:-0400
TZNAME:EDT
DTSTART:20250309T070000
END:DAYLIGHT
BEGIN:STANDARD
TZOFFSETFROM:-0400
TZOFFSETTO:-0500
TZNAME:EST
DTSTART:20251102T060000
END:STANDARD
BEGIN:DAYLIGHT
TZOFFSETFROM:-0500
TZOFFSETTO:-0400
TZNAME:EDT
DTSTART:20260308T070000
END:DAYLIGHT
BEGIN:STANDARD
TZOFFSETFROM:-0400
TZOFFSETTO:-0500
TZNAME:EST
DTSTART:20261101T060000
END:STANDARD
BEGIN:DAYLIGHT
TZOFFSETFROM:-0500
TZOFFSETTO:-0400
TZNAME:EDT
DTSTART:20270314T070000
END:DAYLIGHT
BEGIN:STANDARD
TZOFFSETFROM:-0400
TZOFFSETTO:-0500
TZNAME:EST
DTSTART:20271107T060000
END:STANDARD
END:VTIMEZONE
BEGIN:VEVENT
DTSTART;TZID=America/New_York:20260102T100000
DTEND;TZID=America/New_York:20260102T150000
DTSTAMP:20260424T062156
CREATED:20250724T152214Z
LAST-MODIFIED:20260104T223759Z
UID:38353-1767348000-1767366000@westonaic.org
SUMMARY:Open Maker Hours
DESCRIPTION:Welcome students\, artists\, makers\, and the craft curious! \nOpen Maker Hours are dedicated to anyone who would like to use either of our studio spaces to work independently on personal projects. You are welcome to use our equipment (3D printers\, Cricut Makers\, and/or Sewing Machines) once you have been certified.* Open Maker Hours is intended for those who are aged middle school plus. Children UNDER the age of 12 MUST be accompanied by an adult at all times. \n*To be certified on our equipment please sign up for one of our Certifications or register for Sewing Fundamentals. If certified patrons would like to make an appointment with Abby to use the laser please sign up here. \nJust a friendly reminder that you must provide your own materials and there is no instruction provided unless otherwise stated. The equipment may not be available as it is first come first serve. Please be aware that this is a shared space and equipment may not be available while classes are in session. Please be mindful of noise and workspace.
URL:https://westonaic.org/class/open-maker-hours-64/
LOCATION:The Loft and the Toolshed
CATEGORIES:Classes,Open Maker Hours
END:VEVENT
BEGIN:VEVENT
DTSTART;TZID=America/New_York:20260103T100000
DTEND;TZID=America/New_York:20260103T153000
DTSTAMP:20260424T062156
CREATED:20250724T152214Z
LAST-MODIFIED:20260408T195659Z
UID:39916-1767434400-1767454200@westonaic.org
SUMMARY:Open Maker Hours
DESCRIPTION:Welcome students\, artists\, makers\, and the craft curious! \nOpen Maker Hours are dedicated to anyone who would like to use either of our studio spaces to work independently on personal projects. You are welcome to use our equipment (3D printers\, Cricut Makers\, and/or Sewing Machines) once you have been certified.* Open Maker Hours is intended for those who are aged middle school plus. Children UNDER the age of 12 MUST be accompanied by an adult at all times.  \n$5 Maker fee paid at the door\, cash or credit card. \n*To be certified on our equipment please sign up for one of our Certifications or register for Sewing Fundamentals. If certified patrons would like to make an appointment with Abby to use the laser please sign up here. \nJust a friendly reminder that you must provide your own materials and there is no instruction provided unless otherwise stated. The equipment may not be available as it is first come first serve. Please be aware that this is a shared space and equipment may not be available while classes are in session. Please be mindful of noise and workspace.
URL:https://westonaic.org/class/open-maker-hours-64-2026-01-03/2026-01-03/
LOCATION:The Loft and the Toolshed
CATEGORIES:Classes,Open Maker Hours
END:VEVENT
BEGIN:VEVENT
DTSTART;TZID=America/New_York:20260109T100000
DTEND;TZID=America/New_York:20260109T133000
DTSTAMP:20260424T062156
CREATED:20250724T152214Z
LAST-MODIFIED:20260408T195707Z
UID:41356-1767952800-1767965400@westonaic.org
SUMMARY:Open Maker Hours
DESCRIPTION:Welcome students\, artists\, makers\, and the craft curious! \nOpen Maker Hours are dedicated to anyone who would like to use either of our studio spaces to work independently on personal projects. You are welcome to use our equipment (3D printers\, Cricut Makers\, and/or Sewing Machines) once you have been certified.* Open Maker Hours is intended for those who are aged middle school plus. Children UNDER the age of 12 MUST be accompanied by an adult at all times.  \n$5 Maker fee paid at the door\, cash or credit card. \n*To be certified on our equipment please sign up for one of our Certifications or register for Sewing Fundamentals. If certified patrons would like to make an appointment with Abby to use the laser please sign up here. \nJust a friendly reminder that you must provide your own materials and there is no instruction provided unless otherwise stated. The equipment may not be available as it is first come first serve. Please be aware that this is a shared space and equipment may not be available while classes are in session. Please be mindful of noise and workspace.
URL:https://westonaic.org/class/open-maker-hours-64-2026-01-03/2026-01-09/
LOCATION:The Loft and the Toolshed
CATEGORIES:Classes,Open Maker Hours
END:VEVENT
BEGIN:VEVENT
DTSTART;TZID=America/New_York:20260110T100000
DTEND;TZID=America/New_York:20260110T133000
DTSTAMP:20260424T062156
CREATED:20250724T152214Z
LAST-MODIFIED:20260408T195708Z
UID:41357-1768039200-1768051800@westonaic.org
SUMMARY:Open Maker Hours
DESCRIPTION:Welcome students\, artists\, makers\, and the craft curious! \nOpen Maker Hours are dedicated to anyone who would like to use either of our studio spaces to work independently on personal projects. You are welcome to use our equipment (3D printers\, Cricut Makers\, and/or Sewing Machines) once you have been certified.* Open Maker Hours is intended for those who are aged middle school plus. Children UNDER the age of 12 MUST be accompanied by an adult at all times.  \n$5 Maker fee paid at the door\, cash or credit card. \n*To be certified on our equipment please sign up for one of our Certifications or register for Sewing Fundamentals. If certified patrons would like to make an appointment with Abby to use the laser please sign up here. \nJust a friendly reminder that you must provide your own materials and there is no instruction provided unless otherwise stated. The equipment may not be available as it is first come first serve. Please be aware that this is a shared space and equipment may not be available while classes are in session. Please be mindful of noise and workspace.
URL:https://westonaic.org/class/open-maker-hours-64-2026-01-03/2026-01-10/
LOCATION:The Loft and the Toolshed
CATEGORIES:Classes,Open Maker Hours
END:VEVENT
BEGIN:VEVENT
DTSTART;TZID=America/New_York:20260116T100000
DTEND;TZID=America/New_York:20260116T133000
DTSTAMP:20260424T062156
CREATED:20250724T152214Z
LAST-MODIFIED:20260408T195708Z
UID:41358-1768557600-1768570200@westonaic.org
SUMMARY:Open Maker Hours
DESCRIPTION:Welcome students\, artists\, makers\, and the craft curious! \nOpen Maker Hours are dedicated to anyone who would like to use either of our studio spaces to work independently on personal projects. You are welcome to use our equipment (3D printers\, Cricut Makers\, and/or Sewing Machines) once you have been certified.* Open Maker Hours is intended for those who are aged middle school plus. Children UNDER the age of 12 MUST be accompanied by an adult at all times.  \n$5 Maker fee paid at the door\, cash or credit card. \n*To be certified on our equipment please sign up for one of our Certifications or register for Sewing Fundamentals. If certified patrons would like to make an appointment with Abby to use the laser please sign up here. \nJust a friendly reminder that you must provide your own materials and there is no instruction provided unless otherwise stated. The equipment may not be available as it is first come first serve. Please be aware that this is a shared space and equipment may not be available while classes are in session. Please be mindful of noise and workspace.
URL:https://westonaic.org/class/open-maker-hours-64-2026-01-03/2026-01-16/
LOCATION:The Loft and the Toolshed
CATEGORIES:Classes,Open Maker Hours
END:VEVENT
BEGIN:VEVENT
DTSTART;TZID=America/New_York:20260117T100000
DTEND;TZID=America/New_York:20260117T133000
DTSTAMP:20260424T062156
CREATED:20250724T152214Z
LAST-MODIFIED:20260408T195709Z
UID:41359-1768644000-1768656600@westonaic.org
SUMMARY:Open Maker Hours
DESCRIPTION:Welcome students\, artists\, makers\, and the craft curious! \nOpen Maker Hours are dedicated to anyone who would like to use either of our studio spaces to work independently on personal projects. You are welcome to use our equipment (3D printers\, Cricut Makers\, and/or Sewing Machines) once you have been certified.* Open Maker Hours is intended for those who are aged middle school plus. Children UNDER the age of 12 MUST be accompanied by an adult at all times.  \n$5 Maker fee paid at the door\, cash or credit card. \n*To be certified on our equipment please sign up for one of our Certifications or register for Sewing Fundamentals. If certified patrons would like to make an appointment with Abby to use the laser please sign up here. \nJust a friendly reminder that you must provide your own materials and there is no instruction provided unless otherwise stated. The equipment may not be available as it is first come first serve. Please be aware that this is a shared space and equipment may not be available while classes are in session. Please be mindful of noise and workspace.
URL:https://westonaic.org/class/open-maker-hours-64-2026-01-03/2026-01-17/
LOCATION:The Loft and the Toolshed
CATEGORIES:Classes,Open Maker Hours
END:VEVENT
BEGIN:VEVENT
DTSTART;TZID=America/New_York:20260123T100000
DTEND;TZID=America/New_York:20260123T133000
DTSTAMP:20260424T062156
CREATED:20250724T152214Z
LAST-MODIFIED:20260408T195710Z
UID:41360-1769162400-1769175000@westonaic.org
SUMMARY:Open Maker Hours
DESCRIPTION:Welcome students\, artists\, makers\, and the craft curious! \nOpen Maker Hours are dedicated to anyone who would like to use either of our studio spaces to work independently on personal projects. You are welcome to use our equipment (3D printers\, Cricut Makers\, and/or Sewing Machines) once you have been certified.* Open Maker Hours is intended for those who are aged middle school plus. Children UNDER the age of 12 MUST be accompanied by an adult at all times.  \n$5 Maker fee paid at the door\, cash or credit card. \n*To be certified on our equipment please sign up for one of our Certifications or register for Sewing Fundamentals. If certified patrons would like to make an appointment with Abby to use the laser please sign up here. \nJust a friendly reminder that you must provide your own materials and there is no instruction provided unless otherwise stated. The equipment may not be available as it is first come first serve. Please be aware that this is a shared space and equipment may not be available while classes are in session. Please be mindful of noise and workspace.
URL:https://westonaic.org/class/open-maker-hours-64-2026-01-03/2026-01-23/
LOCATION:The Loft and the Toolshed
CATEGORIES:Classes,Open Maker Hours
END:VEVENT
BEGIN:VEVENT
DTSTART;TZID=America/New_York:20260124T100000
DTEND;TZID=America/New_York:20260124T133000
DTSTAMP:20260424T062156
CREATED:20250724T152214Z
LAST-MODIFIED:20260408T195711Z
UID:41361-1769248800-1769261400@westonaic.org
SUMMARY:Open Maker Hours
DESCRIPTION:Welcome students\, artists\, makers\, and the craft curious! \nOpen Maker Hours are dedicated to anyone who would like to use either of our studio spaces to work independently on personal projects. You are welcome to use our equipment (3D printers\, Cricut Makers\, and/or Sewing Machines) once you have been certified.* Open Maker Hours is intended for those who are aged middle school plus. Children UNDER the age of 12 MUST be accompanied by an adult at all times.  \n$5 Maker fee paid at the door\, cash or credit card. \n*To be certified on our equipment please sign up for one of our Certifications or register for Sewing Fundamentals. If certified patrons would like to make an appointment with Abby to use the laser please sign up here. \nJust a friendly reminder that you must provide your own materials and there is no instruction provided unless otherwise stated. The equipment may not be available as it is first come first serve. Please be aware that this is a shared space and equipment may not be available while classes are in session. Please be mindful of noise and workspace.
URL:https://westonaic.org/class/open-maker-hours-64-2026-01-03/2026-01-24/
LOCATION:The Loft and the Toolshed
CATEGORIES:Classes,Open Maker Hours
END:VEVENT
BEGIN:VEVENT
DTSTART;TZID=America/New_York:20260130T100000
DTEND;TZID=America/New_York:20260130T133000
DTSTAMP:20260424T062156
CREATED:20250724T152214Z
LAST-MODIFIED:20260408T195712Z
UID:41362-1769767200-1769779800@westonaic.org
SUMMARY:Open Maker Hours
DESCRIPTION:Welcome students\, artists\, makers\, and the craft curious! \nOpen Maker Hours are dedicated to anyone who would like to use either of our studio spaces to work independently on personal projects. You are welcome to use our equipment (3D printers\, Cricut Makers\, and/or Sewing Machines) once you have been certified.* Open Maker Hours is intended for those who are aged middle school plus. Children UNDER the age of 12 MUST be accompanied by an adult at all times.  \n$5 Maker fee paid at the door\, cash or credit card. \n*To be certified on our equipment please sign up for one of our Certifications or register for Sewing Fundamentals. If certified patrons would like to make an appointment with Abby to use the laser please sign up here. \nJust a friendly reminder that you must provide your own materials and there is no instruction provided unless otherwise stated. The equipment may not be available as it is first come first serve. Please be aware that this is a shared space and equipment may not be available while classes are in session. Please be mindful of noise and workspace.
URL:https://westonaic.org/class/open-maker-hours-64-2026-01-03/2026-01-30/
LOCATION:The Loft and the Toolshed
CATEGORIES:Classes,Open Maker Hours
END:VEVENT
BEGIN:VEVENT
DTSTART;TZID=America/New_York:20260131T100000
DTEND;TZID=America/New_York:20260131T133000
DTSTAMP:20260424T062156
CREATED:20250724T152214Z
LAST-MODIFIED:20260408T195713Z
UID:41363-1769853600-1769866200@westonaic.org
SUMMARY:Open Maker Hours
DESCRIPTION:Welcome students\, artists\, makers\, and the craft curious! \nOpen Maker Hours are dedicated to anyone who would like to use either of our studio spaces to work independently on personal projects. You are welcome to use our equipment (3D printers\, Cricut Makers\, and/or Sewing Machines) once you have been certified.* Open Maker Hours is intended for those who are aged middle school plus. Children UNDER the age of 12 MUST be accompanied by an adult at all times.  \n$5 Maker fee paid at the door\, cash or credit card. \n*To be certified on our equipment please sign up for one of our Certifications or register for Sewing Fundamentals. If certified patrons would like to make an appointment with Abby to use the laser please sign up here. \nJust a friendly reminder that you must provide your own materials and there is no instruction provided unless otherwise stated. The equipment may not be available as it is first come first serve. Please be aware that this is a shared space and equipment may not be available while classes are in session. Please be mindful of noise and workspace.
URL:https://westonaic.org/class/open-maker-hours-64-2026-01-03/2026-01-31/
LOCATION:The Loft and the Toolshed
CATEGORIES:Classes,Open Maker Hours
END:VEVENT
END:VCALENDAR