BEGIN:VCALENDAR
VERSION:2.0
PRODID:-//Weston Art &amp; Innovation Center - ECPv6.15.20//NONSGML v1.0//EN
CALSCALE:GREGORIAN
METHOD:PUBLISH
X-WR-CALNAME:Weston Art &amp; Innovation Center
X-ORIGINAL-URL:https://westonaic.org
X-WR-CALDESC:Events for Weston Art &amp; Innovation Center
REFRESH-INTERVAL;VALUE=DURATION:PT1H
X-Robots-Tag:noindex
X-PUBLISHED-TTL:PT1H
BEGIN:VTIMEZONE
TZID:America/New_York
BEGIN:DAYLIGHT
TZOFFSETFROM:-0500
TZOFFSETTO:-0400
TZNAME:EDT
DTSTART:20250309T070000
END:DAYLIGHT
BEGIN:STANDARD
TZOFFSETFROM:-0400
TZOFFSETTO:-0500
TZNAME:EST
DTSTART:20251102T060000
END:STANDARD
BEGIN:DAYLIGHT
TZOFFSETFROM:-0500
TZOFFSETTO:-0400
TZNAME:EDT
DTSTART:20260308T070000
END:DAYLIGHT
BEGIN:STANDARD
TZOFFSETFROM:-0400
TZOFFSETTO:-0500
TZNAME:EST
DTSTART:20261101T060000
END:STANDARD
BEGIN:DAYLIGHT
TZOFFSETFROM:-0500
TZOFFSETTO:-0400
TZNAME:EDT
DTSTART:20270314T070000
END:DAYLIGHT
BEGIN:STANDARD
TZOFFSETFROM:-0400
TZOFFSETTO:-0500
TZNAME:EST
DTSTART:20271107T060000
END:STANDARD
END:VTIMEZONE
BEGIN:VEVENT
DTSTART;TZID=America/New_York:20260206T100000
DTEND;TZID=America/New_York:20260206T133000
DTSTAMP:20260422T110633
CREATED:20250724T152214Z
LAST-MODIFIED:20260408T195714Z
UID:41364-1770372000-1770384600@westonaic.org
SUMMARY:Open Maker Hours
DESCRIPTION:Welcome students\, artists\, makers\, and the craft curious! \nOpen Maker Hours are dedicated to anyone who would like to use either of our studio spaces to work independently on personal projects. You are welcome to use our equipment (3D printers\, Cricut Makers\, and/or Sewing Machines) once you have been certified.* Open Maker Hours is intended for those who are aged middle school plus. Children UNDER the age of 12 MUST be accompanied by an adult at all times.  \n$5 Maker fee paid at the door\, cash or credit card. \n*To be certified on our equipment please sign up for one of our Certifications or register for Sewing Fundamentals. If certified patrons would like to make an appointment with Abby to use the laser please sign up here. \nJust a friendly reminder that you must provide your own materials and there is no instruction provided unless otherwise stated. The equipment may not be available as it is first come first serve. Please be aware that this is a shared space and equipment may not be available while classes are in session. Please be mindful of noise and workspace.
URL:https://westonaic.org/class/open-maker-hours-64-2026-01-03/2026-02-06/
LOCATION:The Loft and the Toolshed
CATEGORIES:Classes,Open Maker Hours
END:VEVENT
BEGIN:VEVENT
DTSTART;TZID=America/New_York:20260207T100000
DTEND;TZID=America/New_York:20260207T133000
DTSTAMP:20260422T110633
CREATED:20250724T152214Z
LAST-MODIFIED:20260408T195714Z
UID:41365-1770458400-1770471000@westonaic.org
SUMMARY:Open Maker Hours
DESCRIPTION:Welcome students\, artists\, makers\, and the craft curious! \nOpen Maker Hours are dedicated to anyone who would like to use either of our studio spaces to work independently on personal projects. You are welcome to use our equipment (3D printers\, Cricut Makers\, and/or Sewing Machines) once you have been certified.* Open Maker Hours is intended for those who are aged middle school plus. Children UNDER the age of 12 MUST be accompanied by an adult at all times.  \n$5 Maker fee paid at the door\, cash or credit card. \n*To be certified on our equipment please sign up for one of our Certifications or register for Sewing Fundamentals. If certified patrons would like to make an appointment with Abby to use the laser please sign up here. \nJust a friendly reminder that you must provide your own materials and there is no instruction provided unless otherwise stated. The equipment may not be available as it is first come first serve. Please be aware that this is a shared space and equipment may not be available while classes are in session. Please be mindful of noise and workspace.
URL:https://westonaic.org/class/open-maker-hours-64-2026-01-03/2026-02-07/
LOCATION:The Loft and the Toolshed
CATEGORIES:Classes,Open Maker Hours
END:VEVENT
BEGIN:VEVENT
DTSTART;TZID=America/New_York:20260213T100000
DTEND;TZID=America/New_York:20260213T133000
DTSTAMP:20260422T110633
CREATED:20250724T152214Z
LAST-MODIFIED:20260408T195717Z
UID:41366-1770976800-1770989400@westonaic.org
SUMMARY:Open Maker Hours
DESCRIPTION:Welcome students\, artists\, makers\, and the craft curious! \nOpen Maker Hours are dedicated to anyone who would like to use either of our studio spaces to work independently on personal projects. You are welcome to use our equipment (3D printers\, Cricut Makers\, and/or Sewing Machines) once you have been certified.* Open Maker Hours is intended for those who are aged middle school plus. Children UNDER the age of 12 MUST be accompanied by an adult at all times.  \n$5 Maker fee paid at the door\, cash or credit card. \n*To be certified on our equipment please sign up for one of our Certifications or register for Sewing Fundamentals. If certified patrons would like to make an appointment with Abby to use the laser please sign up here. \nJust a friendly reminder that you must provide your own materials and there is no instruction provided unless otherwise stated. The equipment may not be available as it is first come first serve. Please be aware that this is a shared space and equipment may not be available while classes are in session. Please be mindful of noise and workspace.
URL:https://westonaic.org/class/open-maker-hours-64-2026-01-03/2026-02-13/
LOCATION:The Loft and the Toolshed
CATEGORIES:Classes,Open Maker Hours
END:VEVENT
BEGIN:VEVENT
DTSTART;TZID=America/New_York:20260214T100000
DTEND;TZID=America/New_York:20260214T133000
DTSTAMP:20260422T110633
CREATED:20250724T152214Z
LAST-MODIFIED:20260408T195718Z
UID:41367-1771063200-1771075800@westonaic.org
SUMMARY:Open Maker Hours
DESCRIPTION:Welcome students\, artists\, makers\, and the craft curious! \nOpen Maker Hours are dedicated to anyone who would like to use either of our studio spaces to work independently on personal projects. You are welcome to use our equipment (3D printers\, Cricut Makers\, and/or Sewing Machines) once you have been certified.* Open Maker Hours is intended for those who are aged middle school plus. Children UNDER the age of 12 MUST be accompanied by an adult at all times.  \n$5 Maker fee paid at the door\, cash or credit card. \n*To be certified on our equipment please sign up for one of our Certifications or register for Sewing Fundamentals. If certified patrons would like to make an appointment with Abby to use the laser please sign up here. \nJust a friendly reminder that you must provide your own materials and there is no instruction provided unless otherwise stated. The equipment may not be available as it is first come first serve. Please be aware that this is a shared space and equipment may not be available while classes are in session. Please be mindful of noise and workspace.
URL:https://westonaic.org/class/open-maker-hours-64-2026-01-03/2026-02-14/
LOCATION:The Loft and the Toolshed
CATEGORIES:Classes,Open Maker Hours
END:VEVENT
BEGIN:VEVENT
DTSTART;TZID=America/New_York:20260220T100000
DTEND;TZID=America/New_York:20260220T133000
DTSTAMP:20260422T110633
CREATED:20250724T152214Z
LAST-MODIFIED:20260408T195719Z
UID:41368-1771581600-1771594200@westonaic.org
SUMMARY:Open Maker Hours
DESCRIPTION:Welcome students\, artists\, makers\, and the craft curious! \nOpen Maker Hours are dedicated to anyone who would like to use either of our studio spaces to work independently on personal projects. You are welcome to use our equipment (3D printers\, Cricut Makers\, and/or Sewing Machines) once you have been certified.* Open Maker Hours is intended for those who are aged middle school plus. Children UNDER the age of 12 MUST be accompanied by an adult at all times.  \n$5 Maker fee paid at the door\, cash or credit card. \n*To be certified on our equipment please sign up for one of our Certifications or register for Sewing Fundamentals. If certified patrons would like to make an appointment with Abby to use the laser please sign up here. \nJust a friendly reminder that you must provide your own materials and there is no instruction provided unless otherwise stated. The equipment may not be available as it is first come first serve. Please be aware that this is a shared space and equipment may not be available while classes are in session. Please be mindful of noise and workspace.
URL:https://westonaic.org/class/open-maker-hours-64-2026-01-03/2026-02-20/
LOCATION:The Loft and the Toolshed
CATEGORIES:Classes,Open Maker Hours
END:VEVENT
BEGIN:VEVENT
DTSTART;TZID=America/New_York:20260221T100000
DTEND;TZID=America/New_York:20260221T133000
DTSTAMP:20260422T110633
CREATED:20250724T152214Z
LAST-MODIFIED:20260408T195720Z
UID:41369-1771668000-1771680600@westonaic.org
SUMMARY:Open Maker Hours
DESCRIPTION:Welcome students\, artists\, makers\, and the craft curious! \nOpen Maker Hours are dedicated to anyone who would like to use either of our studio spaces to work independently on personal projects. You are welcome to use our equipment (3D printers\, Cricut Makers\, and/or Sewing Machines) once you have been certified.* Open Maker Hours is intended for those who are aged middle school plus. Children UNDER the age of 12 MUST be accompanied by an adult at all times.  \n$5 Maker fee paid at the door\, cash or credit card. \n*To be certified on our equipment please sign up for one of our Certifications or register for Sewing Fundamentals. If certified patrons would like to make an appointment with Abby to use the laser please sign up here. \nJust a friendly reminder that you must provide your own materials and there is no instruction provided unless otherwise stated. The equipment may not be available as it is first come first serve. Please be aware that this is a shared space and equipment may not be available while classes are in session. Please be mindful of noise and workspace.
URL:https://westonaic.org/class/open-maker-hours-64-2026-01-03/2026-02-21/
LOCATION:The Loft and the Toolshed
CATEGORIES:Classes,Open Maker Hours
END:VEVENT
BEGIN:VEVENT
DTSTART;TZID=America/New_York:20260227T100000
DTEND;TZID=America/New_York:20260227T133000
DTSTAMP:20260422T110633
CREATED:20250724T152214Z
LAST-MODIFIED:20260408T195721Z
UID:41370-1772186400-1772199000@westonaic.org
SUMMARY:Open Maker Hours
DESCRIPTION:Welcome students\, artists\, makers\, and the craft curious! \nOpen Maker Hours are dedicated to anyone who would like to use either of our studio spaces to work independently on personal projects. You are welcome to use our equipment (3D printers\, Cricut Makers\, and/or Sewing Machines) once you have been certified.* Open Maker Hours is intended for those who are aged middle school plus. Children UNDER the age of 12 MUST be accompanied by an adult at all times.  \n$5 Maker fee paid at the door\, cash or credit card. \n*To be certified on our equipment please sign up for one of our Certifications or register for Sewing Fundamentals. If certified patrons would like to make an appointment with Abby to use the laser please sign up here. \nJust a friendly reminder that you must provide your own materials and there is no instruction provided unless otherwise stated. The equipment may not be available as it is first come first serve. Please be aware that this is a shared space and equipment may not be available while classes are in session. Please be mindful of noise and workspace.
URL:https://westonaic.org/class/open-maker-hours-64-2026-01-03/2026-02-27/
LOCATION:The Loft and the Toolshed
CATEGORIES:Classes,Open Maker Hours
END:VEVENT
BEGIN:VEVENT
DTSTART;TZID=America/New_York:20260228T100000
DTEND;TZID=America/New_York:20260228T133000
DTSTAMP:20260422T110633
CREATED:20250724T152214Z
LAST-MODIFIED:20260408T195722Z
UID:41371-1772272800-1772285400@westonaic.org
SUMMARY:Open Maker Hours
DESCRIPTION:Welcome students\, artists\, makers\, and the craft curious! \nOpen Maker Hours are dedicated to anyone who would like to use either of our studio spaces to work independently on personal projects. You are welcome to use our equipment (3D printers\, Cricut Makers\, and/or Sewing Machines) once you have been certified.* Open Maker Hours is intended for those who are aged middle school plus. Children UNDER the age of 12 MUST be accompanied by an adult at all times.  \n$5 Maker fee paid at the door\, cash or credit card. \n*To be certified on our equipment please sign up for one of our Certifications or register for Sewing Fundamentals. If certified patrons would like to make an appointment with Abby to use the laser please sign up here. \nJust a friendly reminder that you must provide your own materials and there is no instruction provided unless otherwise stated. The equipment may not be available as it is first come first serve. Please be aware that this is a shared space and equipment may not be available while classes are in session. Please be mindful of noise and workspace.
URL:https://westonaic.org/class/open-maker-hours-64-2026-01-03/2026-02-28/
LOCATION:The Loft and the Toolshed
CATEGORIES:Classes,Open Maker Hours
END:VEVENT
END:VCALENDAR