BEGIN:VCALENDAR
VERSION:2.0
PRODID:-//Weston Art &amp; Innovation Center - ECPv6.15.20//NONSGML v1.0//EN
CALSCALE:GREGORIAN
METHOD:PUBLISH
X-ORIGINAL-URL:https://westonaic.org
X-WR-CALDESC:Events for Weston Art &amp; Innovation Center
REFRESH-INTERVAL;VALUE=DURATION:PT1H
X-Robots-Tag:noindex
X-PUBLISHED-TTL:PT1H
BEGIN:VTIMEZONE
TZID:America/New_York
BEGIN:DAYLIGHT
TZOFFSETFROM:-0500
TZOFFSETTO:-0400
TZNAME:EDT
DTSTART:20210314T070000
END:DAYLIGHT
BEGIN:STANDARD
TZOFFSETFROM:-0400
TZOFFSETTO:-0500
TZNAME:EST
DTSTART:20211107T060000
END:STANDARD
BEGIN:DAYLIGHT
TZOFFSETFROM:-0500
TZOFFSETTO:-0400
TZNAME:EDT
DTSTART:20220313T070000
END:DAYLIGHT
BEGIN:STANDARD
TZOFFSETFROM:-0400
TZOFFSETTO:-0500
TZNAME:EST
DTSTART:20221106T060000
END:STANDARD
BEGIN:DAYLIGHT
TZOFFSETFROM:-0500
TZOFFSETTO:-0400
TZNAME:EDT
DTSTART:20230312T070000
END:DAYLIGHT
BEGIN:STANDARD
TZOFFSETFROM:-0400
TZOFFSETTO:-0500
TZNAME:EST
DTSTART:20231105T060000
END:STANDARD
BEGIN:DAYLIGHT
TZOFFSETFROM:-0500
TZOFFSETTO:-0400
TZNAME:EDT
DTSTART:20240310T070000
END:DAYLIGHT
BEGIN:STANDARD
TZOFFSETFROM:-0400
TZOFFSETTO:-0500
TZNAME:EST
DTSTART:20241103T060000
END:STANDARD
BEGIN:DAYLIGHT
TZOFFSETFROM:-0500
TZOFFSETTO:-0400
TZNAME:EDT
DTSTART:20250309T070000
END:DAYLIGHT
BEGIN:STANDARD
TZOFFSETFROM:-0400
TZOFFSETTO:-0500
TZNAME:EST
DTSTART:20251102T060000
END:STANDARD
BEGIN:DAYLIGHT
TZOFFSETFROM:-0500
TZOFFSETTO:-0400
TZNAME:EDT
DTSTART:20260308T070000
END:DAYLIGHT
BEGIN:STANDARD
TZOFFSETFROM:-0400
TZOFFSETTO:-0500
TZNAME:EST
DTSTART:20261101T060000
END:STANDARD
BEGIN:DAYLIGHT
TZOFFSETFROM:-0500
TZOFFSETTO:-0400
TZNAME:EDT
DTSTART:20270314T070000
END:DAYLIGHT
BEGIN:STANDARD
TZOFFSETFROM:-0400
TZOFFSETTO:-0500
TZNAME:EST
DTSTART:20271107T060000
END:STANDARD
END:VTIMEZONE
BEGIN:VEVENT
DTSTART;TZID=America/New_York:20260418T100000
DTEND;TZID=America/New_York:20260418T133000
DTSTAMP:20260422T055255
CREATED:20250724T152214Z
LAST-MODIFIED:20260408T195734Z
UID:41382-1776506400-1776519000@westonaic.org
SUMMARY:Open Maker Hours
DESCRIPTION:Welcome students\, artists\, makers\, and the craft curious! \nOpen Maker Hours are dedicated to anyone who would like to use either of our studio spaces to work independently on personal projects. You are welcome to use our equipment (3D printers\, Cricut Makers\, and/or Sewing Machines) once you have been certified.* Open Maker Hours is intended for those who are aged middle school plus. Children UNDER the age of 12 MUST be accompanied by an adult at all times.  \n$5 Maker fee paid at the door\, cash or credit card. \n*To be certified on our equipment please sign up for one of our Certifications or register for Sewing Fundamentals. If certified patrons would like to make an appointment with Abby to use the laser please sign up here. \nJust a friendly reminder that you must provide your own materials and there is no instruction provided unless otherwise stated. The equipment may not be available as it is first come first serve. Please be aware that this is a shared space and equipment may not be available while classes are in session. Please be mindful of noise and workspace.
URL:https://westonaic.org/class/open-maker-hours-64-2026-01-03/2026-04-18/
LOCATION:The Loft and the Toolshed
CATEGORIES:Classes,Open Maker Hours
END:VEVENT
BEGIN:VEVENT
DTSTART;TZID=America/New_York:20260102T100000
DTEND;TZID=America/New_York:20260102T150000
DTSTAMP:20260422T055255
CREATED:20250724T152214Z
LAST-MODIFIED:20260104T223759Z
UID:38353-1767348000-1767366000@westonaic.org
SUMMARY:Open Maker Hours
DESCRIPTION:Welcome students\, artists\, makers\, and the craft curious! \nOpen Maker Hours are dedicated to anyone who would like to use either of our studio spaces to work independently on personal projects. You are welcome to use our equipment (3D printers\, Cricut Makers\, and/or Sewing Machines) once you have been certified.* Open Maker Hours is intended for those who are aged middle school plus. Children UNDER the age of 12 MUST be accompanied by an adult at all times. \n*To be certified on our equipment please sign up for one of our Certifications or register for Sewing Fundamentals. If certified patrons would like to make an appointment with Abby to use the laser please sign up here. \nJust a friendly reminder that you must provide your own materials and there is no instruction provided unless otherwise stated. The equipment may not be available as it is first come first serve. Please be aware that this is a shared space and equipment may not be available while classes are in session. Please be mindful of noise and workspace.
URL:https://westonaic.org/class/open-maker-hours-64/
LOCATION:The Loft and the Toolshed
CATEGORIES:Classes,Open Maker Hours
END:VEVENT
BEGIN:VEVENT
DTSTART;TZID=America/New_York:20250705T100000
DTEND;TZID=America/New_York:20250705T130000
DTSTAMP:20260422T055255
CREATED:20250627T190120Z
LAST-MODIFIED:20250627T190120Z
UID:38271-1751709600-1751720400@westonaic.org
SUMMARY:Open Maker Hours
DESCRIPTION:Welcome students\, artists\, makers\, and the craft curious! \nOpen Maker Hours are dedicated to anyone who would like to use either of our studio spaces to work independently on personal projects. You are welcome to use our equipment (3D printers\, Cricut Makers\, and/or Sewing Machines) once you have been certified.* Open Maker Hours is intended for those who are aged middle school plus. Children UNDER the age of 12 MUST be accompanied by an adult at all times. \n*To be certified on our equipment please sign up for one of our Certifications or register for Sewing Fundamentals. If certified patrons would like to make an appointment with Abby to use the laser please sign up here. \nJust a friendly reminder that you must provide your own materials and there is no instruction provided unless otherwise stated. The equipment may not be available as it is first come first serve. Please be aware that this is a shared space and classes may be in session. Please be mindful of noise and workspace.
URL:https://westonaic.org/class/open-maker-hours-61/
LOCATION:The Loft and the Toolshed
CATEGORIES:Classes,Open Maker Hours
END:VEVENT
BEGIN:VEVENT
DTSTART;TZID=America/New_York:20250628T100000
DTEND;TZID=America/New_York:20250628T130000
DTSTAMP:20260422T055255
CREATED:20241206T165629Z
LAST-MODIFIED:20250115T142336Z
UID:36430-1751104800-1751115600@westonaic.org
SUMMARY:Open Maker Hours
DESCRIPTION:Welcome students\, artists\, makers\, and the craft curious! \nOpen Maker Hours are dedicated to anyone who would like to use either of our studio spaces to work independently on personal projects. You are welcome to use our equipment (3D printers\, Cricut Makers\, and/or Sewing Machines) once you have been certified.* Open Maker Hours is intended for those who are aged middle school plus. Children UNDER the age of 12 MUST be accompanied by an adult at all times. \n*To be certified on our equipment please sign up for one of our Certifications or register for Sewing Fundamentals. If certified patrons would like to make an appointment with Abby to use the laser please sign up here. \nJust a friendly reminder that you must provide your own materials and there is no instruction provided unless otherwise stated. The equipment may not be available as it is first come first serve. Please be aware that this is a shared space and classes may be in session. Please be mindful of noise and workspace.
URL:https://westonaic.org/class/open-maker-hours-50-2025-06-28/
LOCATION:The Loft and the Toolshed
CATEGORIES:Classes,Open Maker Hours
END:VEVENT
BEGIN:VEVENT
DTSTART;TZID=America/New_York:20250627T100000
DTEND;TZID=America/New_York:20250627T150000
DTSTAMP:20260422T055255
CREATED:20241206T165629Z
LAST-MODIFIED:20250523T153144Z
UID:36429-1751018400-1751036400@westonaic.org
SUMMARY:Open Maker Hours
DESCRIPTION:Welcome students\, artists\, makers\, and the craft curious! \nOpen Maker Hours are dedicated to anyone who would like to use either of our studio spaces to work independently on personal projects. You are welcome to use our equipment (3D printers\, Cricut Makers\, and/or Sewing Machines) once you have been certified.* Open Maker Hours is intended for those who are aged middle school plus. Children UNDER the age of 12 MUST be accompanied by an adult at all times. \n*To be certified on our equipment please sign up for one of our Certifications or register for Sewing Fundamentals. If certified patrons would like to make an appointment with Abby to use the laser please sign up here. \nJust a friendly reminder that you must provide your own materials and there is no instruction provided unless otherwise stated. The equipment may not be available as it is first come first serve. Please be aware that this is a shared space so please be mindful of noise and workspace. 
URL:https://westonaic.org/class/open-maker-hours-50/2025-06-27/
LOCATION:The Loft and the Toolshed
CATEGORIES:Classes,Open Maker Hours
END:VEVENT
BEGIN:VEVENT
DTSTART;TZID=America/New_York:20250621T100000
DTEND;TZID=America/New_York:20250621T130000
DTSTAMP:20260422T055255
CREATED:20241206T165629Z
LAST-MODIFIED:20250115T142136Z
UID:36427-1750500000-1750510800@westonaic.org
SUMMARY:Open Maker Hours
DESCRIPTION:Welcome students\, artists\, makers\, and the craft curious! \nOpen Maker Hours are dedicated to anyone who would like to use either of our studio spaces to work independently on personal projects. You are welcome to use our equipment (3D printers\, Cricut Makers\, and/or Sewing Machines) once you have been certified.* Open Maker Hours is intended for those who are aged middle school plus. Children UNDER the age of 12 MUST be accompanied by an adult at all times. \n*To be certified on our equipment please sign up for one of our Certifications or register for Sewing Fundamentals. If certified patrons would like to make an appointment with Abby to use the laser please sign up here. \nJust a friendly reminder that you must provide your own materials and there is no instruction provided unless otherwise stated. The equipment may not be available as it is first come first serve. Please be aware that this is a shared space and classes may be in session. Please be mindful of noise and workspace.
URL:https://westonaic.org/class/open-maker-hours-50-2025-06-21/
LOCATION:The Loft and the Toolshed
CATEGORIES:Classes,Open Maker Hours
END:VEVENT
BEGIN:VEVENT
DTSTART;TZID=America/New_York:20250614T100000
DTEND;TZID=America/New_York:20250614T130000
DTSTAMP:20260422T055255
CREATED:20241206T165629Z
LAST-MODIFIED:20250115T141938Z
UID:36424-1749895200-1749906000@westonaic.org
SUMMARY:Open Maker Hours
DESCRIPTION:Welcome students\, artists\, makers\, and the craft curious! \nOpen Maker Hours are dedicated to anyone who would like to use either of our studio spaces to work independently on personal projects. You are welcome to use our equipment (3D printers\, Cricut Makers\, and/or Sewing Machines) once you have been certified.* Open Maker Hours is intended for those who are aged middle school plus. Children UNDER the age of 12 MUST be accompanied by an adult at all times. \n*To be certified on our equipment please sign up for one of our Certifications or register for Sewing Fundamentals. If certified patrons would like to make an appointment with Abby to use the laser please sign up here. \nJust a friendly reminder that you must provide your own materials and there is no instruction provided unless otherwise stated. The equipment may not be available as it is first come first serve. Please be aware that this is a shared space and classes may be in session. Please be mindful of noise and workspace.
URL:https://westonaic.org/class/open-maker-hours-50-2025-06-14/
LOCATION:The Loft and the Toolshed
CATEGORIES:Classes,Open Maker Hours
END:VEVENT
BEGIN:VEVENT
DTSTART;TZID=America/New_York:20250607T100000
DTEND;TZID=America/New_York:20250607T130000
DTSTAMP:20260422T055255
CREATED:20241206T165629Z
LAST-MODIFIED:20250115T141853Z
UID:36421-1749290400-1749301200@westonaic.org
SUMMARY:Open Maker Hours
DESCRIPTION:Welcome students\, artists\, makers\, and the craft curious! \nOpen Maker Hours are dedicated to anyone who would like to use either of our studio spaces to work independently on personal projects. You are welcome to use our equipment (3D printers\, Cricut Makers\, and/or Sewing Machines) once you have been certified.* Open Maker Hours is intended for those who are aged middle school plus. Children UNDER the age of 12 MUST be accompanied by an adult at all times. \n*To be certified on our equipment please sign up for one of our Certifications or register for Sewing Fundamentals. If certified patrons would like to make an appointment with Abby to use the laser please sign up here. \nJust a friendly reminder that you must provide your own materials and there is no instruction provided unless otherwise stated. The equipment may not be available as it is first come first serve. Please be aware that this is a shared space and classes may be in session. Please be mindful of noise and workspace.
URL:https://westonaic.org/class/open-maker-hours-50-2025-06-07/
LOCATION:The Loft and the Toolshed
CATEGORIES:Classes,Open Maker Hours
END:VEVENT
BEGIN:VEVENT
DTSTART;TZID=America/New_York:20250213T100000
DTEND;TZID=America/New_York:20250213T130000
DTSTAMP:20260422T055255
CREATED:20250130T154442Z
LAST-MODIFIED:20250131T204444Z
UID:37031-1739440800-1739451600@westonaic.org
SUMMARY:Stamp Making Workshop
DESCRIPTION:During this rubber stamp workshop with instructor and artist\, Carol Ryan\, students will learn how to carve a stamp and print by hand. This printmaking process is easy and fun and you’ll leave with some beautiful prints! Registration closes Feb 10. \n  \nMinimum # of Students: 2 \nMaximum # of Students: 10 \nCost: $45 (plus materials fee paid to instructor $10) \nDate: Thurs Feb 13  (10am – 1pm) \n\n\n\nJust a friendly reminder that classes which do not meet the minimum enrollment requirements will be canceled.
URL:https://westonaic.org/class/stamp-making-workshop/
LOCATION:The Toolshed\, 356 Boston Post Road\, 1st floor\, Weston\, MA\, 02493\, United States
CATEGORIES:Cheese Pairing,Classes,Cooking Class,Crafts,Fine Arts,Grazing Boards,Mosaics,Open Maker Hours,Open Mic Night,Printmaking,Sugar Cookie Design,Summer Workshops
ATTACH;FMTTYPE=image/png:https://westonaic.org/wp-content/uploads/2025/01/21.png
END:VEVENT
BEGIN:VEVENT
DTSTART;TZID=America/New_York:20241220T100000
DTEND;TZID=America/New_York:20241220T160000
DTSTAMP:20260422T055255
CREATED:20220603T195246Z
LAST-MODIFIED:20240320T171041Z
UID:32596-1734688800-1734710400@westonaic.org
SUMMARY:Open Maker Hours
DESCRIPTION:Welcome students\, artists\, makers\, and the craft curious! \nOpen Maker Hours are dedicated to anyone who would like to use either of our studio spaces to work independently on personal projects. You are welcome to use our equipment (3D printers\, Cricut Makers\, and/or Sewing Machines) once you have been certified.* Open Maker Hours is intended for those who are aged middle school plus. Children UNDER the age of 12 MUST be accompanied by an adult at all times. \n*To be certified on our equipment please sign up for one of our Certifications or register for Sewing Fundamentals. If certified patrons would like to make an appointment with Abby to use the laser please sign up here. \nJust a friendly reminder that you must provide your own materials and there is no instruction provided unless otherwise stated. The equipment may not be available as it is first come first serve.
URL:https://westonaic.org/class/open-maker-hours-63-2022-09-03-2022-10-22/2024-12-20/
LOCATION:The Loft and the Toolshed
CATEGORIES:Open Maker Hours
ATTACH;FMTTYPE=image/png:https://westonaic.org/wp-content/uploads/2023/03/AIC-Website-Maker-Hours.png
END:VEVENT
BEGIN:VEVENT
DTSTART;TZID=America/New_York:20241129T130000
DTEND;TZID=America/New_York:20241129T160000
DTSTAMP:20260422T055255
CREATED:20220603T195246Z
LAST-MODIFIED:20241120T162335Z
UID:34397-1732885200-1732896000@westonaic.org
SUMMARY:Holiday Hours: Open Maker Hours
DESCRIPTION:Welcome students\, artists\, makers\, and the craft curious! \nOpen Maker Hours are dedicated to anyone who would like to use either of our studio spaces to work independently on personal projects. You are welcome to use our equipment (3D printers\, Cricut Makers\, and/or Sewing Machines) once you have been certified.* Open Maker Hours is intended for those who are aged middle school plus. Children UNDER the age of 12 MUST be accompanied by an adult at all times. \n*To be certified on our equipment please sign up for one of our Certifications or register for Sewing Fundamentals. If certified patrons would like to make an appointment with Abby to use the laser please sign up here. \nJust a friendly reminder that you must provide your own materials and there is no instruction provided unless otherwise stated. The equipment may not be available as it is first come first serve.
URL:https://westonaic.org/class/open-maker-hours-63-2022-09-03-2022-10-22-2024-11-29/
LOCATION:The Loft and the Toolshed
CATEGORIES:Open Maker Hours
ATTACH;FMTTYPE=image/png:https://westonaic.org/wp-content/uploads/2023/03/AIC-Website-Maker-Hours.png
END:VEVENT
BEGIN:VEVENT
DTSTART;TZID=America/New_York:20240810T100000
DTEND;TZID=America/New_York:20240810T130000
DTSTAMP:20260422T055255
CREATED:20230919T151539Z
LAST-MODIFIED:20230919T151539Z
UID:31621-1723284000-1723294800@westonaic.org
SUMMARY:Open Maker Hours
DESCRIPTION:Welcome students\, artists\, makers\, and the craft curious! \nOpen Maker Hours are dedicated to anyone who would like to use either of our studio spaces to work independently on personal projects. You are welcome to use our equipment (3D printers\, Cricut Makers\, printing press\, and/or sewing machines) once you have been certified. \nTo be certified on our equipment please sign up for one of our Certification Sessions or register for Sewing Fundamentals. If you would like to make an appointment outside of Open Maker Hours please email us at info@westonaic.org. \nJust a friendly reminder that you must provide your own materials and there is no instruction provided unless otherwise stated. \nCost: $5 at the door (cash or credit)
URL:https://westonaic.org/class/open-maker-hours-35/2024-08-10/
LOCATION:The Loft and the Toolshed
CATEGORIES:Open Maker Hours
ATTACH;FMTTYPE=image/png:https://westonaic.org/wp-content/uploads/2022/03/AIC-Website-Open-Maker.png
END:VEVENT
BEGIN:VEVENT
DTSTART;TZID=America/New_York:20240628T100000
DTEND;TZID=America/New_York:20240628T160000
DTSTAMP:20260422T055255
CREATED:20220603T195246Z
LAST-MODIFIED:20240614T175702Z
UID:32571-1719568800-1719590400@westonaic.org
SUMMARY:Open Maker Hours
DESCRIPTION:Welcome students\, artists\, makers\, and the craft curious! \nOpen Maker Hours are dedicated to anyone who would like to use either of our studio spaces to work independently on personal projects. You are welcome to use our equipment (3D printers\, Cricut Makers\, and/or Sewing Machines) once you have been certified.* Open Maker Hours is intended for those who are aged middle school plus. Children UNDER the age of 12 MUST be accompanied by an adult at all times. \n*To be certified on our equipment please sign up for one of our Certifications or register for Sewing Fundamentals. If certified patrons would like to make an appointment with Abby to use the laser please sign up here. \nJust a friendly reminder that you must provide your own materials and there is no instruction provided unless otherwise stated. The equipment may not be available as it is first come first serve.
URL:https://westonaic.org/class/open-maker-hours-63-2022-09-03-2022-10-22-2024-06-28/
LOCATION:The Loft and the Toolshed
CATEGORIES:Open Maker Hours
ATTACH;FMTTYPE=image/png:https://westonaic.org/wp-content/uploads/2023/03/AIC-Website-Maker-Hours.png
END:VEVENT
BEGIN:VEVENT
DTSTART;TZID=America/New_York:20240525T130000
DTEND;TZID=America/New_York:20240525T160000
DTSTAMP:20260422T055255
CREATED:20230308T162054Z
LAST-MODIFIED:20240105T165307Z
UID:31574-1716642000-1716652800@westonaic.org
SUMMARY:Open Maker Hours
DESCRIPTION:Welcome students\, artists\, makers\, and the craft curious! \nOpen Maker Hours are dedicated to anyone who would like to use either of our studio spaces to work independently on personal projects. You are welcome to use our equipment (3D printers\, Cricut Makers\, and/or Sewing Machines) once you have been certified.* \n*To be certified on our equipment please sign up for one of our Certifications or register for Sewing Fundamentals. If certified patrons would like to make an appointment with Abby to use the laser please sign up here. \nJust a friendly reminder that you must provide your own materials and there is no instruction provided unless otherwise stated. The equipment may not be available as it is first come first serve.
URL:https://westonaic.org/class/open-maker-hours-47-2023-09-09/2024-05-25/
LOCATION:The Loft and the Toolshed
CATEGORIES:Open Maker Hours
ATTACH;FMTTYPE=image/png:https://westonaic.org/wp-content/uploads/2023/03/AIC-Website-Maker-Hours.png
END:VEVENT
BEGIN:VEVENT
DTSTART;TZID=America/New_York:20240330T130000
DTEND;TZID=America/New_York:20240330T160000
DTSTAMP:20260422T055255
CREATED:20230308T162054Z
LAST-MODIFIED:20240330T143406Z
UID:31566-1711803600-1711814400@westonaic.org
SUMMARY:Toolshed Only - Open Maker Hours
DESCRIPTION:Welcome students\, artists\, makers\, and the craft curious! \nOpen Maker Hours are dedicated to anyone who would like to use either of our studio spaces to work independently on personal projects. You are welcome to use our equipment (3D printers\, Cricut Makers\, and/or Sewing Machines) once you have been certified.* \n*To be certified on our equipment please sign up for one of our Certifications or register for Sewing Fundamentals. If certified patrons would like to make an appointment with Abby to use the laser please sign up here. \nJust a friendly reminder that you must provide your own materials and there is no instruction provided unless otherwise stated. The equipment may not be available as it is first come first serve.
URL:https://westonaic.org/class/open-maker-hours-47-2023-09-09-2024-03-30/
LOCATION:The Loft and the Toolshed
CATEGORIES:Open Maker Hours
ATTACH;FMTTYPE=image/png:https://westonaic.org/wp-content/uploads/2023/03/AIC-Website-Maker-Hours.png
END:VEVENT
BEGIN:VEVENT
DTSTART;TZID=America/New_York:20240224T130000
DTEND;TZID=America/New_York:20240224T160000
DTSTAMP:20260422T055255
CREATED:20230308T162054Z
LAST-MODIFIED:20230919T150903Z
UID:31561-1708779600-1708790400@westonaic.org
SUMMARY:Open Maker Hours
DESCRIPTION:Welcome students\, artists\, makers\, and the craft curious! \nOpen Maker Hours are dedicated to anyone who would like to use either of our studio spaces to work independently on personal projects. You are welcome to use our equipment (3D printers\, Cricut Makers\, printing press\, and/or sewing machines) once you have been certified. \nTo be certified on our equipment please sign up for one of our Certification Sessions or register for Sewing Fundamentals. If you would like to make an appointment outside of Open Maker Hours please email us at info@westonaic.org. \nJust a friendly reminder that you must provide your own materials and there is no instruction provided unless otherwise stated. \nCost: $5 at the door (cash or credit)
URL:https://westonaic.org/class/open-maker-hours-47-2023-09-09-2024-02-24/
LOCATION:The Loft and the Toolshed
CATEGORIES:Open Maker Hours
ATTACH;FMTTYPE=image/png:https://westonaic.org/wp-content/uploads/2022/03/AIC-Website-Open-Maker.png
END:VEVENT
BEGIN:VEVENT
DTSTART;TZID=America/New_York:20230811T130000
DTEND;TZID=America/New_York:20230811T160000
DTSTAMP:20260422T055255
CREATED:20220603T195246Z
LAST-MODIFIED:20230712T165337Z
UID:28682-1691758800-1691769600@westonaic.org
SUMMARY:Open Maker Hours
DESCRIPTION:Welcome students\, artists\, makers\, and the craft curious! \nOpen Maker Hours are dedicated to anyone who would like to use either of our studio spaces to work independently on personal projects. You are welcome to use our equipment (3D printers\, Cricut Makers\, or sewing machines) once you have been certified. \nTo be certified on our equipment please sign up for one of our Certification Sessions or register for Sewing Fundamentals. If you would like to make an appointment outside of Open Maker Hours please email us at info@westonaic.org. \nJust a friendly reminder that you must provide your own materials and there is No Instruction provided unless otherwise stated.  \nCost: $5 at the door (cash or credit)
URL:https://westonaic.org/class/open-maker-hours-63-2022-09-03-2022-10-22-2023-08-11/
LOCATION:The Loft and the Toolshed
CATEGORIES:Open Maker Hours
ATTACH;FMTTYPE=image/png:https://westonaic.org/wp-content/uploads/2022/03/AIC-Website-Open-Maker.png
END:VEVENT
BEGIN:VEVENT
DTSTART;TZID=America/New_York:20230318T130000
DTEND;TZID=America/New_York:20230318T160000
DTSTAMP:20260422T055255
CREATED:20230316T210902Z
LAST-MODIFIED:20230406T180457Z
UID:28845-1679144400-1679155200@westonaic.org
SUMMARY:Open Maker Hours
DESCRIPTION:Welcome students\, artists\, makers\, and the craft curious! \nOpen Maker Hours are dedicated to anyone who would like to use either of our studio spaces to work independently on personal projects. You are welcome to use our equipment (3D printers\, Cricut Makers\, or sewing machines) once you have been certified. \nTo be certified on our equipment please sign up for one of our Certification Sessions or register for Sewing Fundamentals. If you would like to make an appointment outside of Open Maker Hours please email us at info@westonaic.org. \nJust a friendly reminder that you must provide your own materials and there is No Instruction provided unless otherwise stated.  \nCost: $5 at the door (cash or credit)
URL:https://westonaic.org/class/open-maker-hours-48/2023-03-18/
LOCATION:The Loft and the Toolshed
CATEGORIES:Open Maker Hours
ATTACH;FMTTYPE=image/png:https://westonaic.org/wp-content/uploads/2022/03/AIC-Website-Open-Maker.png
END:VEVENT
BEGIN:VEVENT
DTSTART;TZID=America/New_York:20220910T130000
DTEND;TZID=America/New_York:20220910T160000
DTSTAMP:20260422T055255
CREATED:20220603T195246Z
LAST-MODIFIED:20220831T175846Z
UID:24352-1662814800-1662825600@westonaic.org
SUMMARY:Open Maker Hours
DESCRIPTION:Welcome students\, artists\, makers\, and the craft curious! \nOpen Maker Hours are dedicated to anyone who would like to use either of our studio spaces to work independently on personal projects. You are welcome to use our equipment (3D printers\, Cricut Makers\, printing press\, and/or sewing machines) once you have been certified. \nTo be certified on our equipment please sign up for one of our Certification Saturday Sessions or register for Sewing Fundamentals. If you would like to make an appointment outside of Open Maker Hours please email us at info@westonaic.org. \nJust a friendly reminder that you must provide your own materials and there is no instruction provided unless otherwise stated. \nCost: $5 at the door (cash or credit)
URL:https://westonaic.org/class/open-maker-hours-63-2022-09-03-2022-09-10/2022-09-10/
LOCATION:The Loft and the Toolshed
CATEGORIES:Open Maker Hours
ATTACH;FMTTYPE=image/png:https://westonaic.org/wp-content/uploads/2022/03/AIC-Website-Open-Maker.png
END:VEVENT
BEGIN:VEVENT
DTSTART;TZID=America/New_York:20220702T100000
DTEND;TZID=America/New_York:20220702T140000
DTSTAMP:20260422T055255
CREATED:20220603T195246Z
LAST-MODIFIED:20220818T153954Z
UID:23641-1656756000-1656770400@westonaic.org
SUMMARY:Open Maker Hours
DESCRIPTION:Open Maker Hours is offered to students\, artists\, and makers who would like to use our studio space to continue their work independently. Our makerspaces and equipment are available outside of the traditional classroom experience. We encourage you to use Maker Lab time to join others who may share your creative interests as you explore your craft. \nOpen Maker Hours is a time to use the equipment for which you’ve been certified (3D printer\, Cricut Maker\, printing press and/or sewing machine) or to use our studio space. It is a wonderful opportunity be inspired\, collaborate with others\, and finish projects. The cost is $5 and you must provide your own materials. RSVPs are recommended\, equipment is first come first serve. \nCost: $5 at the door (cash or credit only)
URL:https://westonaic.org/class/open-maker-hours-63/2022-07-02/
LOCATION:The Loft and the Toolshed
CATEGORIES:Open Maker Hours
ATTACH;FMTTYPE=image/png:https://westonaic.org/wp-content/uploads/2022/06/AIC-Website-Makers-Lab-December-489-x-400-px-2.png
END:VEVENT
END:VCALENDAR