BEGIN:VCALENDAR
VERSION:2.0
PRODID:-//Weston Art &amp; Innovation Center - ECPv6.15.20//NONSGML v1.0//EN
CALSCALE:GREGORIAN
METHOD:PUBLISH
X-ORIGINAL-URL:https://westonaic.org
X-WR-CALDESC:Events for Weston Art &amp; Innovation Center
REFRESH-INTERVAL;VALUE=DURATION:PT1H
X-Robots-Tag:noindex
X-PUBLISHED-TTL:PT1H
BEGIN:VTIMEZONE
TZID:America/New_York
BEGIN:DAYLIGHT
TZOFFSETFROM:-0500
TZOFFSETTO:-0400
TZNAME:EDT
DTSTART:20220313T070000
END:DAYLIGHT
BEGIN:STANDARD
TZOFFSETFROM:-0400
TZOFFSETTO:-0500
TZNAME:EST
DTSTART:20221106T060000
END:STANDARD
BEGIN:DAYLIGHT
TZOFFSETFROM:-0500
TZOFFSETTO:-0400
TZNAME:EDT
DTSTART:20230312T070000
END:DAYLIGHT
BEGIN:STANDARD
TZOFFSETFROM:-0400
TZOFFSETTO:-0500
TZNAME:EST
DTSTART:20231105T060000
END:STANDARD
BEGIN:DAYLIGHT
TZOFFSETFROM:-0500
TZOFFSETTO:-0400
TZNAME:EDT
DTSTART:20240310T070000
END:DAYLIGHT
BEGIN:STANDARD
TZOFFSETFROM:-0400
TZOFFSETTO:-0500
TZNAME:EST
DTSTART:20241103T060000
END:STANDARD
BEGIN:DAYLIGHT
TZOFFSETFROM:-0500
TZOFFSETTO:-0400
TZNAME:EDT
DTSTART:20250309T070000
END:DAYLIGHT
BEGIN:STANDARD
TZOFFSETFROM:-0400
TZOFFSETTO:-0500
TZNAME:EST
DTSTART:20251102T060000
END:STANDARD
END:VTIMEZONE
BEGIN:VEVENT
DTSTART;TZID=America/New_York:20240730T090000
DTEND;TZID=America/New_York:20240802T130000
DTSTAMP:20260424T075217
CREATED:20231021T141230Z
LAST-MODIFIED:20231021T141230Z
UID:31981-1722330000-1722603600@westonaic.org
SUMMARY:Teen Summer Series: Introduction to Robotics
DESCRIPTION:In this 4 day Introduction to Robotics Series\, students will learn how to use the Arduino microcontroller to interact with the world through robotics. With a project oriented approach\, students will be building their own projects with a high level of customizability and independence with instructor guidance. Students will be creating things such as robot grippers\, auto light switches\, and pipe freeze warning systems. Each class will be focused on small projects\, which culminate into a bigger final project. Registration closes July 24.  \nMinimum # of Students: 4 \nMaximum # of Students: 8 \nCost: $375 \nDate:  Tues Jul 30 – Fri Aug 2 (9am-1pm)
URL:https://westonaic.org/class/teen-summer-series-introduction-to-robotics-2/
LOCATION:The Loft\, 356 Boston Post Road\, 2nd floor\, Weston\, MA\, 02493\, United States
CATEGORIES:Arduino,Electronics,Robotics,Summer Workshops,Tech/Fabrication,Teen,Teens
ATTACH;FMTTYPE=image/png:https://westonaic.org/wp-content/uploads/2023/04/AIC-Newsletter-Beginner-Robotics-Series.png
END:VEVENT
BEGIN:VEVENT
DTSTART;TZID=America/New_York:20231109T160000
DTEND;TZID=America/New_York:20231109T180000
DTSTAMP:20260424T075217
CREATED:20230627T160813Z
LAST-MODIFIED:20231003T190311Z
UID:29388-1699545600-1699552800@westonaic.org
SUMMARY:Beginner Robotics Series for Teens
DESCRIPTION:In this 6 week Beginner Robotics Series\, students will learn how to use the Arduino microcontroller to interact with the world through robotics. The series will cover basic motors\, sensors\, and other tools such as 3D printing. With a project oriented approach\, students will be building their own projects with a high level of customizability and independence with instructor guidance. Students will be creating things such as robot grippers\, auto light switches\, and pipe freeze warning systems. Each class will be focused on small projects\, which culminate into a bigger final project on robot cars. Registration closes Nov 4.  \nMinimum # of Students: 4 \nMaximum # of Students: 8 \nCost: $325 (kits included) \nDate: 6 week series starting Thurs\, Nov 9 (Nov 9\, 16\, 30\, Dec 7\, 14 & 21) **(No class on Nov 23)** (4pm-6pm) \nJust a friendly reminder that classes which do not meet the minimum enrollment requirements will be canceled.
URL:https://westonaic.org/class/beginner-robotics-series-for-teens-2/2023-11-09/
LOCATION:The Loft\, 356 Boston Post Road\, 2nd floor\, Weston\, MA\, 02493\, United States
CATEGORIES:3D design,Arduino,Classes,Electronics,Robotics,Tech/Fabrication,Teen,Teens
ATTACH;FMTTYPE=image/png:https://westonaic.org/wp-content/uploads/2023/04/AIC-Newsletter-Beginner-Robotics-Series-2.png
END:VEVENT
BEGIN:VEVENT
DTSTART;TZID=America/New_York:20230725T130000
DTEND;TZID=America/New_York:20230728T170000
DTSTAMP:20260424T075217
CREATED:20230418T142549Z
LAST-MODIFIED:20230721T194938Z
UID:29318-1690290000-1690563600@westonaic.org
SUMMARY:Teen Summer Series: Introduction to Robotics
DESCRIPTION:In this 4 day Introduction to Robotics Series\, students will learn how to use the Arduino microcontroller to interact with the world through robotics. With a project oriented approach\, students will be building their own projects with a high level of customizability and independence with instructor guidance. Students will be creating things such as robot grippers\, auto light switches\, and pipe freeze warning systems. Each class will be focused on small projects\, which culminate into a bigger final project. Registration closes July 19.  \nMinimum # of Students: 4 \nMaximum # of Students: 8 \nCost: $350 (kits included) \nDate:  Tues Jul 25 – Fri Jul 28 (1pm-5pm)
URL:https://westonaic.org/class/teen-summer-series-introduction-to-robotics/
LOCATION:The Loft\, 356 Boston Post Road\, 2nd floor\, Weston\, MA\, 02493\, United States
CATEGORIES:Arduino,Classes,Electronics,Robotics,Tech/Fabrication,Teen,Teens
ATTACH;FMTTYPE=image/png:https://westonaic.org/wp-content/uploads/2023/04/AIC-Newsletter-Beginner-Robotics-Series.png
END:VEVENT
BEGIN:VEVENT
DTSTART;TZID=America/New_York:20230119T160000
DTEND;TZID=America/New_York:20230119T180000
DTSTAMP:20260424T075217
CREATED:20221228T172215Z
LAST-MODIFIED:20221228T202445Z
UID:27139-1674144000-1674151200@westonaic.org
SUMMARY:Beginner Robotics Series for Teens
DESCRIPTION:In this 8 week Beginner Robotics Series\, students will learn how to use the Arduino microcontroller to interact with the world through robotics. The series will cover basic motors\, sensors\, and other tools such as 3D printing. With a project oriented approach\, students will be building their own projects with a high level of customizability and independence with instructor guidance. Students will be creating things such as robot grippers\, auto light switches\, and pipe freeze warning systems. Each class will be focused on small projects\, which culminate into a bigger final project on robot cars. Registration closes Jan 17.  \nMinimum # of Students: 4 \nMaximum # of Students: 8 \nCost: $325 (kits included) \nDate: 8 week series starting Thurs\, Jan 19 (Jan 19\, 26\, Feb 2\, 9\, 16\,  Mar 2\, 9 & 16) **(No class on Feb 23)**
URL:https://westonaic.org/class/beginner-robotics-series-for-teens/2023-01-19/
LOCATION:The Loft\, 356 Boston Post Road\, 2nd floor\, Weston\, MA\, 02493\, United States
CATEGORIES:3D design,Arduino,Classes,Electronics,Robotics,Tech/Fabrication,Teen,Teens
ATTACH;FMTTYPE=image/png:https://westonaic.org/wp-content/uploads/2022/12/Beginner-Robotics-Series.png
END:VEVENT
END:VCALENDAR